Workbook
Name BankName: [1]Codes!$A$1:$A$20
Name Country: [2]Codes!$H$2:$H$230
Name CurrencyType: [2]Codes!$D$12:$D$13
Name DataTypes: #REF!
Name DataTypes: #REF!
Name DataTypes: #REF!
Name FormA: #REF!
Name FormA: #REF!
Name FormA: #REF!
Name InvestmentLevel: [2]Codes!$F$2:$F$5
Name InvestmentType: [3]Codes!$E$2:$E$4
Name RelatedParty: [2]Codes!$D$2:$D$3
Name rng3rdPartyDeposits: #REF!
Name rng3rdPartyDeposits: #REF!
Name rng3rdPartyDeposits: #REF!
Name rngBalanceSheet: #REF!,#REF!,#REF!,#REF!,#REF!,#REF!,#REF!,#REF!,#REF!,#REF!,#REF!
Name rngBalanceSheet: #REF!,#REF!,#REF!,#REF!,#REF!,#REF!,#REF!,#REF!,#REF!,#REF!,#REF!
Name rngBalanceSheet: #REF!,#REF!,#REF!,#REF!,#REF!,#REF!,#REF!,#REF!,#REF!,#REF!,#REF!
Name rngBSD2TotalAssets: #REF!
Name rngBSD2TotalAssets: #REF!
Name rngBSD2TotalAssets: #REF!
Name rngBSD2TotalLiabilities: #REF!
Name rngBSD2TotalLiabilities: #REF!
Name rngBSD2TotalLiabilities: #REF!
Name rngCapital: #REF!,#REF!,#REF!,#REF!
Name rngCapital: #REF!,#REF!,#REF!,#REF!
Name rngCapital: #REF!,#REF!,#REF!,#REF!
Name rngChartBSDI: #REF!
Name rngChartBSDI: #REF!
Name rngChartBSDI: #REF!
Name rngCurr1: #REF!
Name rngCurr1: #REF!
Name rngCurr1: #REF!
Name rngCurr1_Rsk_Eq_Assets: #REF!
Name rngCurr1_Rsk_Eq_Assets: #REF!
Name rngCurr1_Rsk_Eq_Assets: #REF!
Name rngCurr10: #REF!
Name rngCurr10: #REF!
Name rngCurr10: #REF!
Name rngCurr10_Rsk_Eq_Assets: #REF!
Name rngCurr10_Rsk_Eq_Assets: #REF!
Name rngCurr10_Rsk_Eq_Assets: #REF!
Name rngCurr10TotCapital: #REF!
Name rngCurr10TotCapital: #REF!
Name rngCurr10TotCapital: #REF!
Name rngCurr1TotCapital: #REF!
Name rngCurr1TotCapital: #REF!
Name rngCurr1TotCapital: #REF!
Name rngCurr2: #REF!
Name rngCurr2: #REF!
Name rngCurr2: #REF!
Name rngCurr2_Rsk_Eq_Assets: #REF!
Name rngCurr2_Rsk_Eq_Assets: #REF!
Name rngCurr2_Rsk_Eq_Assets: #REF!
Name rngCurr2TotCapital: #REF!
Name rngCurr2TotCapital: #REF!
Name rngCurr2TotCapital: #REF!
Name rngCurr3: #REF!
Name rngCurr3: #REF!
Name rngCurr3: #REF!

Sheet Attestation
A2: Private and Confidential
A3: Central Bank of The Bahamas - AML Data Return
B6: SFI Name:
B8: SFI Code: | D8: =IFERROR(VLOOKUP(D6,Sheet1!F2:G8,2,FALSE),"")
B10: Reporting Date: | E10: (mmm/yy)
B12: We certify that the figures in these forms present a true and fair view of the supervised financial institution's (SFI's) position as at the above reporting date. We undertake that if there are further material facts affecting the SFI's affairs which, in our judgment, should be disclosed, we will promptly advise the Central Bank of The Bahamas.
B16: General Manager - Name: | I16: Money Laundering Reporting Officer - Name:
B19: General Manager - Signature: | I19: Money Laundering Reporting Officer - Signature:
B23: Date signed: | I23: Date signed:
B25: We certify that the re-submission of figures in these forms present a true and fair view of the supervisory financial institution's (SFI's) position as at the above reporting date. We undertake that if there are further material facts affecting the SFI's affairs which, in our judgment, should be disclosed, we will promptly advise the Central Bank of The Bahamas.
B29: General Manager - Name: | I29: Money Laundering Reporting Officer - Name:
B32: General Manager - Signature: | I32: Money Laundering Reporting Officer - Signature:
B36: Date signed: | I36: Date signed:
A39: Notes on Completion:
A40: 1. Complete the form annually as at 31 December.
A41: 2. For definitions of the items refer to the guidance notes.
A42: 3. Where an (*) appears, please give details.
A43: 4. Amount(s) must be entered in dollars to the nearest thousand, omitting decimals.
A44: 5. Submit the attestation form by February 28 via ORIMS Portal.
A45: 6. All dates should be entered as dd/mm/yyyy.
A46: Help is Available:
A47: Email: amlanalytics@centralbankbahamas.com (for questions on the Return) or orimshelp@centralbankbahamas.com (for ORIMS issues)
A48: Phone: 302-9843

Sheet ClientCon
B3: Statement on Client Database
C5: A) Provide a breakdown of the top fifteen (15) countries/jurisdictions representing the nationality of the underlying customers
D7: Country | E7: # of Customers | F7: # of Accounts | G7: ($000's)
G8: Deposits | H8: Loans
C9: 1.
C10: 2.
C11: 3.
C12: 4.
C13: 5.
C14: 6.
C15: 7.
C16: 8.
C17: 9.
C18: 10.
C19: 11.
C20: 12.
... C24: 16.
D25: Total | E25: =SUM(E9:E24) -> 0 | F25: =SUM(F9:F24) -> 0 | G25: =SUM(G9:G24) -> 0 | H25: =SUM(H9:H24) -> 0
C27: B) Provide a breakdown of the risk rating of the following:
D28: Risk Rating | E28: # of Customers | F28: ($000's)
F29: Deposits | G29: Loans
D30: Low Risk
D31: Medium Risk
D32: High Risk
D33: PEPs
D34: of which: are Domestic PEPs
D35: Total | E35: =SUM(E30:E33) -> 0 | F35: =SUM(F30:F33) -> 0 | G35: =SUM(G30:G33) -> 0
C37: C) How are PEPs risk rated?
D38: Risk Rating | E38: # of Customers
D39: Low Risk
D40: Medium Risk
D41: High Risk
D42: Total | E42: =SUM(E39:E41) -> 0
C44: D) Provide the breakdown of type of customers
D45: Type of Person | E45: # of Customers | F45: ($000's)
F46: Deposits | G46: Loans
D47: Natural Persons
D48: Legal Structures/Vehicles
D49: Total | E49: =SUM(E47:E48) -> 0 | F49: =SUM(F47:F48) -> 0 | G49: =SUM(G47:G48) -> 0

Sheet AcctActivity
B2: Account Activity (as at 31 December)
M4: ($000s)
L5: # | M5: Value
C7: A. | D7: Account Activity
D8: (i) | E8: Accounts opened
D9: (ii) | E9: Account opening rejected
E10: of which: AML/CFT related rejections
D11: (iii) | E11: Accounts closed
E12: of which: AML/CFT related closures
D13: (iv) | E13: Unverified accounts at 31 December
E14: of which: blocked
D15: (v) | E15: Inactive accounts at 31 December
D16: (vi) | E16: Dormant accounts at 31 December
D17: (vii) | E17: Accounts frozen/blocked by court order at 31 December
C19: B. | D19: Transaction Monitoring & Reporting
D20: (i) | E20: Number of Unusual Transaction Reports
D21: (ii) | E21: Number of Suspicious Transaction Reports
E22: of which: supplemental filings
D23: (iii) | E23: Feedback from FIU on Quality of STRs filed
D24: (iv) | E24: Average Number of Days taken to file a STR once identified
D25: (v) | E25: Backlogs in Transaction Alerts
D26: (vi) | E26: Overdue Periodic Reviews
D27: (vii) | E27: Positive Sanction Hits
E28: of which: transactions rejected
E29: of which: accounts closed
D30: (viii) | E30: False Positive Sanction Hits
C32: C. | D32: Other
D33: (i) | E33: Production order requests received
D34: (ii) | E34: Instances of Fraud | L34: =SUM(L35:L36) -> 0
E35: of which: attempted
E36: of which: actual occurrences
D37: (iii) | E37: Date of last compliance audit/review (dd/mm/yyyy)

Sheet STRs
B3: Statement on Suspicious Transactions
G6: # of STRs | H6: B$ (000')
C8: 1. | D8: Money Laundering STRs | G8: =SUM(G9:G27) -> 0 | H8: =SUM(H9:H27) -> 0
D9: Negative News (Media/Publicity)
D10: Account Activity outside of Profile
D11: Evidence of Forged Documents
D12: Service of Production Order
D13: Service of Monitoring Order
D14: Service of Charging Order
D15: Transactions with no Economic Rationale
D16: Failure/Reluctance to Comply with Due Diligence Requirements
D17: Attempted Transaction to Sanctioned Person or Jurisdiction
D18: Structuring Transactions to Avoid Reporting Requirements
D19: Unusual or Suspicious Transactions Involving Cash
D20: High Risk Jurisdiction
... D27: Other
C28: 2. | D28: Terrorist Financing STRs | G28: =SUM(G29:G47) -> 0 | H28: =SUM(H29:H47) -> 0
D29: Negative News (Media/Publicity)
D30: Account Activity outside of Profile
D31: Evidence of Forged Documents
D32: Service of Production Order
D33: Service of Monitoring Order
D34: Service of Charging Order
D35: Transactions with no Economic Rationale
D36: Failure/Reluctance to Comply with Due Diligence Requirements
D37: Attempted Transaction to Sanctioned Person or Jurisdiction
D38: Structuring Transactions to Avoid Reporting Requirements
D39: Unusual or Suspicious Transactions Involving Cash
D40: High Risk Jurisdiction
... D47: Other
C48: 3. | D48: Proliferation Financing STRs | G48: =SUM(G49:G67) -> 0 | H48: =SUM(H49:H67) -> 0
D49: Negative News (Media/Publicity)
D50: Account Activity outside of Profile
D51: Evidence of Forged Documents
D52: Service of Production Order
D53: Service of Monitoring Order
D54: Service of Charging Order
D55: Transactions with no Economic Rationale
D56: Failure/Reluctance to Comply with Due Diligence Requirements
D57: Attempted Transaction to Sanctioned Person or Jurisdiction
...

Sheet Training
C2: Staff Training
M5: Total
D6: Provide a Breakdown of the Following at 31 December
D7: Number of Total Staff in your institution
D8: Number of Staff who participated in AML/CFT training during the last 12 months | M8: =SUM(M9:M10) -> 0
E9: of which: Non-management
E10: of which: Management
D11: Number of Persons on the Board of Directors of your institution
D12: Number of Board Directors who Participated in AML/CFT training during the last 12 months
D13: Number of Staff in your institution's Compliance Unit
D14: Number of Staff in your institution with AML/CFT qualifications
D15: Date of Last AML/CFT/CFP related Training (dd/mm/yyyy)

Sheet Overall Check
C3: CONSISTENCY CHECKS
C6: Total PEPs Risk Rating Breakdown - # of Customers (Table B) = Total PEPs - # of Customers (Table C) | E6: =ClientCon!E33-ClientCon!E42 -> 0
C8: Country Breakdown of # of Customers (Table A) = Breakdown of Risk Rating - # of Customers (Table B) | E8: =ClientCon!E25-ClientCon!E35 -> 0
C9: Country Breakdown of Deposits (Table A) = Breakdown of Risk Rating - Deposits (Table B) | E9: =ClientCon!G25-ClientCon!F35 -> 0
C10: Country Breakdown of Loans (Table A) = Breakdown of Risk Rating - Loans (Table B) | E10: =ClientCon!H25-ClientCon!G35 -> 0
C12: # of Account Opening Rejected ≥ # of Of which: AML/CFT related rejections | E12: =IF((AcctActivity!L9>=AcctActivity!L10),"0","1") -> 0
C13: Value of Account Opening Rejected ≥ Value of Of which: AML/CFT related rejections | E13: =IF((AcctActivity!M9>=AcctActivity!M10),"0","1") -> 0
C14: # of Accounts Closed ≥ # of Of which: AML/CFT related closures | E14: =IF((AcctActivity!L11>=AcctActivity!L12),"0","1") -> 0
C15: Value of Accounts Closed ≥ Value of Of which: AML/CFT related closures | E15: =IF((AcctActivity!M11>=AcctActivity!M12),"0","1") -> 0
C16: # of Unverified Accounts at 31 December ≥ # of of which: blocked | E16: =IF((AcctActivity!L13>=AcctActivity!L14),"0","1") -> 0
C17: Value of Unverified Accounts at 31 December ≥ Value of of which: blocked | E17: =IF((AcctActivity!M13>=AcctActivity!M14),"0","1") -> 0
C18: Suspicious Transaction Reports filed with the FIU ≥ of which: supplemental filings | E18: =IF((AcctActivity!L21>=AcctActivity!L22),"0","1") -> 0
C20: Total STRs (Statement on Suspicious Transaction) = Suspicious Transaction Reports filed with the FIU (Account Activity) | E20: =STRs!G68-AcctActivity!L21 -> 0
C22: Date of Last AML/CFT/CFP related Training (dd/mm/yyyy) (Cell not blank) | E22: =IF(ISBLANK(Training!M15), "1", "0") -> 1

Sheet Sheet1
F1: Licensee Listing | G1: Licensee Code | J1: 44531
F2: Bahama Islands Co-Operative Credit Union Limited | G2: FCU0003 | J2: 44896
F3: Bahamas Law Enforcement Cooperative Credit Union Limited | G3: FCU0004 | J3: 45261
F4: National Workers Cooperative Credit Union Limited | G4: FCU0002 | J4: 45627
F5: One Eleuthera Co-Operative Credit Union Limited | G5: FCU0010 | J5: 45992
B6: Afghanistan | F6: Teachers and Salaried Workers Co-operative Credit Union Limited | G6: FCU0005 | I6: Afghanistan | J6: 46357
B7: Aland | F7: The Grand Bahama Co-operative Credit Union Limited | G7: FCU0008 | I7: Aland
B8: Albania | F8: The Public Workers' Co-operative Credit Union Limited | G8: FCU0007 | I8: Albania
B9: Algeria | I9: Algeria
B10: American Samoa | I10: American Samoa
B11: Andorra | I11: Andorra
B12: Angola | I12: Angola
B13: Anguilla | I13: Anguilla
B14: Antigua and Barbuda | I14: Antigua and Barbuda
B15: Argentina | I15: Argentina
B16: Armenia | I16: Armenia
B17: Aruba | I17: Aruba
B18: Ascension | I18: Ascension
B19: Australia | I19: Australia
B20: Austria | I20: Austria
... B253: Other | I253: Other
