Workbook
Name BankName: #REF!
Name BankName: #REF!
Name BankName: #REF!
Name BankName: #REF!
Name BankName: #REF!
Name Country: #REF!
Name Country: #REF!
Name Country: #REF!
Name Country: #REF!
Name Country: #REF!
Name Country: #REF!
Name CurrencyType: #REF!
Name CurrencyType: #REF!
Name CurrencyType: #REF!
Name CurrencyType: #REF!
Name CurrencyType: #REF!
Name CurrencyType: #REF!
Name DataTypes: #REF!
Name DataTypes: #REF!
Name DataTypes: #REF!
Name DataTypes: #REF!
Name DataTypes: #REF!
Name DataTypes: #REF!
Name DataTypes: #REF!
Name DataTypes: #REF!
Name DataTypes: #REF!
Name DataTypes: #REF!
Name DataTypes: #REF!
Name DataTypes: #REF!
Name DataTypes: #REF!
Name DataTypes: #REF!
Name DataTypes: #REF!
Name DataTypes: #REF!
Name DataTypes: #REF!
Name DataTypes: #REF!
Name DataTypes: #REF!
Name DataTypes: #REF!
Name DataTypes: #REF!
Name DataTypes: #REF!
Name DataTypes: #REF!
Name DataTypes: #REF!
Name DataTypes: #REF!
Name DataTypes: #REF!
Name DataTypes: #REF!
Name DataTypes: #REF!
Name DPA_1101: #REF!
Name DPA_1101: #REF!
Name DPA_1102: #REF!
Name DPA_1102: #REF!
Name DPA_1103: #REF!
Name DPA_1103: #REF!
Name DPA_1104: #REF!
Name DPA_1104: #REF!
Name DPA_1105: #REF!
Name DPA_1105: #REF!
Name DPA_1106: #REF!
Name DPA_1106: #REF!
Name DPA_1118: #REF!
Name DPA_1118: #REF!
Name DPA_1201: #REF!

Sheet Attestation Form
A2: Private and Confidential
A3: Central Bank of The Bahamas - Financial Return
B6: Licensee Name:
B8: Licensee Code:
B10: Reporting Date: | E10: (mmm/yy)
B12: We certify that the figures in these forms present a true and fair view of the SFI's position as at the above reporting date. We undertake that if there are further material facts affecting the SFI's affairs which, in our judgment, should be disclosed, we will promptly advise the Central Bank of The Bahamas.
B16: Director/Senior Officer I - Name: | I16: Director/Senior Officer II/Authorized Person - Name:
B19: Director/Senior Officer I - Signature: | I19: Director/Senior Officer II/Authorized Person - Signature:
B23: Date signed: | I23: Date signed:
B25: We certify that the re-submission of figures in these forms present a true and fair view of the licensee's position as at the above reporting date. We undertake that if there are further material facts affecting the licensee's affairs which, in our judgment, should be disclosed, we will promptly advise the Central Bank of The Bahamas.
B29: Director/Senior Officer I - Name: | I29: Director/Senior Officer II/Authorized Person - Name:
B32: Director/Senior Officer I - Signature: | I32: Director/Senior Officer II/Authorized Person - Signature:
B36: Date signed: | I36: Date signed:
A39: Notes on Completion:
A40: 1. Complete the form monthly and quarterly as at the last day of each month/quarter unless otherwise agreed.
A41: 2. For definitions of the items refer to the guideline notes.
A42: 3. Where an (*) appears, please give details.
A43: 4. Amount(s) must be entered in dollars to the nearest thousand, omitting decimals.
A44: 5. Submit the attestation form within twenty-one (21) days of the reporting date via the ORIMS Portal.
A46: Resubmission Instructions:
A47: Should a resubmission of the financial return be required, a request for resubmission via the ORIMS Portal is required.
A48: Once the request has been granted, the financial return must be uploaded into the ORIMS Portal.
A50: Also, this page must be printed, signed and returned via the ORIMS Portal.
A52: Help is Available:
A53: Email: orimshelp@centralbankbahamas.com
A54: Phone: 302-9843

Sheet Form 1
F2: Statement of Liabilities & Capital Reserves
N8: ($000s)
B9: L I A B I L I T I E S | K9: B$ | L9: US$ | M9: OTHER | N9: TOTAL
B11: 1. | C11: Deposits | K11: =K12+K13+K14+K19 -> 0 | L11: =L12+L13+L14+L19 -> 0 | M11: =M12+M13+M14+M19 -> 0 | N11: =K11+L11+M11 -> 0
C12: a) | D12: Demand Deposits (Checking Accounts) | N12: =K12+L12+M12 -> 0
C13: b) | D13: Savings Deposits | N13: =K13+L13+M13 -> 0
C14: c) | D14: Fixed Deposits: | K14: =SUM(K15:K18) -> 0 | L14: =SUM(L15:L18) -> 0 | M14: =SUM(M15:M18) -> 0 | N14: =K14+L14+M14 -> 0
D15: (i) | E15: Up to 3 Months | N15: =K15+L15+M15 -> 0
D16: (ii) | E16: Up to 6 Months | N16: =K16+L16+M16 -> 0
D17: (iii) | E17: Up to 12 Months | N17: =K17+L17+M17 -> 0
D18: (iv) | E18: Over 12 Months | N18: =K18+L18+M18 -> 0
C19: d) | D19: Negotiable Certificates of Deposit Issued | N19: =K19+L19+M19 -> 0
B20: 2. | C20: Due to Central Bank | K20: =K21+K22 -> 0 | L20: =L21+L22 -> 0 | M20: =M21+M22 -> 0 | N20: =K20+L20+M20 -> 0
C21: a) | D21: Borrowings from Central Bank | N21: =K21+L21+M21 -> 0
C22: b) | D22: Deposits held for Central Bank | N22: =K22+L22+M22 -> 0
B23: 3. | C23: Due to Financial Institutions (in Bahamas) | K23: =K24+K28+K32 -> 0 | L23: =L24+L28+L32 -> 0 | M23: =M24+M28+M32 -> 0 | N23: =K23+L23+M23 -> 0
C24: a) | D24: Commercial Banks (Authorised Dealers) | K24: =K25+K26+K27 -> 0 | L24: =L25+L26+L27 -> 0 | M24: =M25+M26+M27 -> 0 | N24: =K24+L24+M24 -> 0
D25: (i) | E25: Demand Deposits | N25: =K25+L25+M25 -> 0
D26: (ii) | E26: Fixed Deposits | N26: =K26+L26+M26 -> 0
D27: (iii) | E27: Borrowings | N27: =K27+L27+M27 -> 0
C28: b) | D28: Other Local Financial Institutions (Authorized Agents) | K28: =K29+K30+K31 -> 0 | L28: =L29+L30+L31 -> 0 | M28: =M29+M30+M31 -> 0 | N28: =K28+L28+M28 -> 0
D29: (i) | E29: Demand Deposits | N29: =K29+L29+M29 -> 0
D30: (ii) | E30: Fixed Deposits | N30: =K30+L30+M30 -> 0
D31: (iii) | E31: Borrowings | N31: =K31+L31+M31 -> 0
C32: c) | D32: Due to "Offshore" Financial Institutions in Bahamas | K32: =SUM(K33:K35) -> 0 | L32: =SUM(L33:L35) -> 0 | M32: =SUM(M33:M35) -> 0 | N32: =K32+L32+M32 -> 0
D33: (i) | E33: Demand Deposits | N33: =SUM(K33:M33) -> 0
D34: (ii) | E34: Fixed Deposits | N34: =SUM(K34:M34) -> 0
D35: (iii) | E35: Borrowings | N35: =SUM(K35:M35) -> 0
B36: 4. | C36: Due to Financial Institutions (outside Bahamas) | K36: =K37+K42 -> 0 | L36: =L37+L42 -> 0 | M36: =M37+M42 -> 0 | N36: =K36+L36+M36 -> 0
C37: a) | D37: Head Office, Subsidiaries, Branches or Affiliates | K37: =K39+K40+K41 -> 0 | L37: =L39+L40+L41 -> 0 | M37: =M39+M40+M41 -> 0 | N37: =K37+L37+M37 -> 0
D38: of which: Accrued Interest on Affiliates | N38: =K38+L38+M38 -> 0
D39: (i) | E39: Demand Deposits | N39: =K39+L39+M39 -> 0
D40: (ii) | E40: Fixed Deposits | N40: =K40+L40+M40 -> 0
D41: (iii) | E41: Borrowings | N41: =K41+L41+M41 -> 0
C42: b) | D42: Others | K42: =K43+K44+K45 -> 0 | L42: =L43+L44+L45 -> 0 | M42: =M43+M44+M45 -> 0 | N42: =K42+L42+M42 -> 0
D43: (i) | E43: Demand Deposits | N43: =K43+L43+M43 -> 0
D44: (ii) | E44: Fixed Deposits | N44: =K44+L44+M44 -> 0
D45: (iii) | E45: Borrowings | N45: =K45+L45+M45 -> 0
B46: 5. | C46: Bills Payable | K46: =K47+K48 -> 0 | L46: =L47+L48 -> 0 | M46: =M47+M48 -> 0 | N46: =K46+L46+M46 -> 0
C47: a) | D47: In The Bahamas | N47: =K47+L47+M47 -> 0
...

Sheet Form2
E2: Statement of Assets & Contingent Liabilities
N6: ($000s)
B7: A S S E T S | K7: B$ | L7: US$ | M7: OTHER | N7: TOTAL
B9: 1. | C9: Notes & Coins | N9: =K9+L9+M9 -> 0
B10: 2. | C10: Balance with Central Bank | N10: =K10+L10+M10 -> 0
B11: 3. | C11: Government Securities | K11: =K12+K19 -> 0 | L11: =L12+L19 -> 0 | M11: =M12+M19 -> 0 | N11: =K11+L11+M11 -> 0
C12: a) Bahamas Government | K12: =SUM(K13,K16) -> 0 | L12: =SUM(L13,L16) -> 0 | M12: =SUM(M13,M16) -> 0 | N12: =K12+L12+M12 -> 0
C13: (i) Locally Issued | K13: =SUM(K14:K15) -> 0 | L13: =SUM(L14:L15) -> 0 | M13: =SUM(M14:M15) -> 0 | N13: =K13+L13+M13 -> 0
D14: a) Treasury Bills (up to 1 Year Original Maturity) | N14: =K14+L14+M14 -> 0
D15: b) Long-Term Securities | N15: =K15+L15+M15 -> 0
C16: (ii) Externally Issued | K16: =SUM(K17:K18) -> 0 | L16: =SUM(L17:L18) -> 0 | M16: =SUM(M17:M18) -> 0 | N16: =K16+L16+M16 -> 0
D17: a) Treasury Bills (up to 1 Year Original Maturity) | N17: =K17+L17+M17 -> 0
D18: b) Long-Term Securities | N18: =K18+L18+M18 -> 0
C19: b) Other Governments | L19: =SUM(L20:L21) -> 0 | M19: =SUM(M20:M21) -> 0 | N19: =L19+M19 -> 0
D20: a) Treasury Bills (up to 1 Year Original Maturity) | N20: =L20+M20 -> 0
D21: b) Long-Term Securities | N21: =L21+M21 -> 0
B22: 4. | C22: Balance with Financial Institutions (in Bahamas) | K22: =K23+K28+K33 -> 0 | L22: =L23+L28+L33 -> 0 | M22: =M23+M28+M33 -> 0 | N22: =K22+L22+M22 -> 0
C23: a) Commercial Banks (Authorized Dealers) | K23: =K24+K25+K26+K27 -> 0 | L23: =L24+L25+L26+L27 -> 0 | M23: =M24+M25+M26+M27 -> 0 | N23: =K23+L23+M23 -> 0
D24: (i) | E24: Demand Deposits | N24: =K24+L24+M24 -> 0
D25: (ii) | E25: Fixed Deposits | N25: =K25+L25+M25 -> 0
D26: (iii) | E26: Loans | N26: =K26+L26+M26 -> 0
D27: (iv) | E27: Negotiable Paper Issued by Other Banks | N27: =K27+L27+M27 -> 0
C28: b) Other Local Financial Institutions (Authorized Agents) | K28: =K29+K30+K31+K32 -> 0 | L28: =L29+L30+L31+L32 -> 0 | M28: =M29+M30+M31+M32 -> 0 | N28: =K28+L28+M28 -> 0
D29: (i) | E29: Demand Deposits | N29: =K29+L29+M29 -> 0
D30: (ii) | E30: Fixed Deposits | N30: =K30+L30+M30 -> 0
D31: (iii) | E31: Loans | N31: =K31+L31+M31 -> 0
D32: (iv) | E32: Negotiable Paper Issued by Other Banks | N32: =K32+L32+M32 -> 0
C33: c) Balance with "Offshore" Financial Institutions in Bahamas | K33: =SUM(K34:K37) -> 0 | L33: =SUM(L34:L37) -> 0 | M33: =SUM(M34:M37) -> 0 | N33: =SUM(N34:N37) -> 0
D34: (i) | E34: Demand Deposits | N34: =SUM(K34:M34) -> 0
D35: (ii) | E35: Fixed Deposits | N35: =SUM(K35:M35) -> 0
D36: (iii) | E36: Loans | N36: =SUM(K36:M36) -> 0
D37: (iv) | E37: Negotiable Paper Issued by Other Banks | N37: =SUM(K37:M37) -> 0
B38: 5. | C38: Balance with Financial Institutions (outside Bahamas) | K38: =K39+K44 -> 0 | L38: =L39+L44 -> 0 | M38: =M39+M44 -> 0 | N38: =K38+L38+M38 -> 0
C39: a) Head Office, Subsidiaries, Branches or Affiliates | K39: =K40+K41+K42+K43 -> 0 | L39: =L40+L41+L42+L43 -> 0 | M39: =M40+M41+M42+M43 -> 0 | N39: =K39+L39+M39 -> 0
D40: (i) | E40: Demand Deposits | N40: =K40+L40+M40 -> 0
D41: (ii) | E41: Fixed Deposits | N41: =K41+L41+M41 -> 0
D42: (iii) | E42: Loans | N42: =K42+L42+M42 -> 0
D43: (iv) | E43: Negotiable Paper Issued by Other Banks | N43: =K43+L43+M43 -> 0
C44: b) Others | K44: =K45+K46+K47+K48 -> 0 | L44: =L45+L46+L47+L48 -> 0 | M44: =M45+M46+M47+M48 -> 0 | N44: =K44+L44+M44 -> 0
D45: (i) | E45: Demand Deposits | N45: =K45+L45+M45 -> 0
...

Sheet Form2A
D2: Statement of Other Assets & Liabilities
G7: ($000s)
B8: OTHER ASSETS: OTHER | D8: B$ | E8: US$ | F8: OTHER | G8: TOTAL
B10: 1. | G10: =D10+E10+F10 -> 0
B11: 2. | G11: =D11+E11+F11 -> 0
B12: 3. | G12: =D12+E12+F12 -> 0
B13: 4. | G13: =D13+E13+F13 -> 0
B14: 5. | G14: =D14+E14+F14 -> 0
B15: 6. | G15: =D15+E15+F15 -> 0
B16: 7. | G16: =D16+E16+F16 -> 0
B17: 8. | G17: =D17+E17+F17 -> 0
B18: 9. | G18: =D18+E18+F18 -> 0
B19: 10. | G19: =D19+E19+F19 -> 0
B20: 11 | G20: =D20+E20+F20 -> 0
B21: 12. | G21: =D21+E21+F21 -> 0
... B29: 20. | G29: =D29+E29+F29 -> 0
C30: TOTAL | D30: =SUM(D10:D29) -> 0 | E30: =SUM(E10:E29) -> 0 | F30: =SUM(F10:F29) -> 0 | G30: =SUM(G10:G29) -> 0 | H30: Should Equal | I30: =Form2!N91 -> 0
B34: OTHER LIABILITIES: OTHER | D34: B$ | E34: US$ | F34: OTHER | G34: TOTAL
B36: 1. | G36: =D36+E36+F36 -> 0
B37: 2. | G37: =D37+E37+F37 -> 0
B38: 3. | G38: =D38+E38+F38 -> 0
B39: 4. | G39: =D39+E39+F39 -> 0
B40: 5. | G40: =D40+E40+F40 -> 0
B41: 6. | G41: =D41+E41+F41 -> 0
B42: 7. | G42: =D42+E42+F42 -> 0
B43: 8. | G43: =D43+E43+F43 -> 0
B44: 9. | G44: =D44+E44+F44 -> 0
B45: 10. | G45: =D45+E45+F45 -> 0
B46: 11. | G46: =D46+E46+F46 -> 0
B47: 12. | G47: =D47+E47+F47 -> 0
... B55: 20. | G55: =D55+E55+F55 -> 0
C56: TOTAL | D56: =SUM(D36:D55) -> 0 | E56: =SUM(E36:E55) -> 0 | F56: =SUM(F36:F55) -> 0 | G56: =SUM(G36:G55) -> 0 | H56: Should Equal | I56: ='Form 1'!N57 -> 0

Sheet Form3
E3: Analysis of Deposits by Depositors
I8: ($000s)
F9: B$ | G9: US$ | H9: OTHER | I9: TOTAL
B11: 1. | C11: Demand Deposits | F11: =F12+F20 -> 0 | G11: =G12+G20 -> 0 | H11: =H12+H20 -> 0 | I11: =F11+G11+H11 -> 0
C12: a) | D12: Resident | F12: =F13+F14+F15+F16+F17+F18+F19 -> 0 | G12: =G13+G14+G15+G16+G17+G18+G19 -> 0 | H12: =H13+H14+H15+H16+H17+H18+H19 -> 0 | I12: =F12+G12+H12 -> 0
D13: (i) | E13: Government | I13: =F13+G13+H13 -> 0
D14: (ii) | E14: Public Corporations | I14: =F14+G14+H14 -> 0
D15: (iii) | E15: Public Financial Institutions | I15: =F15+G15+H15 -> 0
D16: (iv) | E16: Private Financial Institutions | I16: =F16+G16+H16 -> 0
D17: (v) | E17: Business Firms | I17: =F17+G17+H17 -> 0
D18: (vi) | E18: Private Individuals | I18: =F18+G18+H18 -> 0
D19: (vii) | E19: Other | I19: =F19+G19+H19 -> 0
C20: b) | D20: Non-Resident | I20: =F20+G20+H20 -> 0
C21: Memorandum: of which:- | F21: =F22+F23+F24+F25 -> 0 | G21: =G22+G23+G24+G25 -> 0 | H21: =H22+H23+H24+H25 -> 0 | I21: =F21+G21+H21 -> 0
D22: (i) | E22: Central Govt. - Consolidated Fund Accounts | I22: =F22+G22+H22 -> 0
D23: (ii) | E23: Commissioners' Accounts | I23: =F23+G23+H23 -> 0
D24: (iii) | E24: Gov't. Ministries/Departments (See App. III) | I24: =F24+G24+H24 -> 0
D25: (iv) | E25: Deposit Fund | I25: =F25+G25+H25 -> 0
B26: 2. | C26: Savings Deposits | F26: =F27+F34 -> 0 | G26: =G27+G34 -> 0 | H26: =H27+H34 -> 0 | I26: =F26+G26+H26 -> 0
C27: a) | D27: Resident | F27: =F28+F29+F30+F31+F32+F33 -> 0 | G27: =G28+G29+G30+G31+G32+G33 -> 0 | H27: =H28+H29+H30+H31+H32+H33 -> 0 | I27: =I28+I29+I30+I31+I32+I33 -> 0
D28: (i) | E28: Public Corporations | I28: =F28+G28+H28 -> 0
D29: (ii) | E29: Public Financial Institutions | I29: =F29+G29+H29 -> 0
D30: (iii) | E30: Private Financial Institutions | I30: =F30+G30+H30 -> 0
D31: (iv) | E31: Business Firms | I31: =F31+G31+H31 -> 0
D32: (v) | E32: Private Individuals | I32: =F32+G32+H32 -> 0
D33: (vi) | E33: Other | I33: =F33+G33+H33 -> 0
C34: b) | D34: Non-Resident | I34: =F34+G34+H34 -> 0
B35: 3. | C35: Fixed Deposits | F35: =F36+F44 -> 0 | G35: =G36+G44 -> 0 | H35: =H36+H44 -> 0 | I35: =F35+G35+H35 -> 0
C36: a) | D36: Resident | F36: =F37+F38+F39+F40+F41+F42+F43 -> 0 | G36: =G37+G38+G39+G40+G41+G42+G43 -> 0 | H36: =H37+H38+H39+H40+H41+H42+H43 -> 0 | I36: =F36+G36+H36 -> 0
D37: (i) | E37: Government | I37: =F37+G37+H37 -> 0
D38: (ii) | E38: Public Corporations | I38: =F38+G38+H38 -> 0
D39: (iii) | E39: Public Financial Institutions | I39: =F39+G39+H39 -> 0
D40: (iv) | E40: Private Financial Institutions | I40: =F40+G40+H40 -> 0
D41: (v) | E41: Business Firms | I41: =F41+G41+H41 -> 0
D42: (vi) | E42: Private Individuals | I42: =F42+G42+H42 -> 0
D43: (vii) | E43: Other | I43: =F43+G43+H43 -> 0
C44: b) | D44: Non-Resident | I44: =F44+G44+H44 -> 0
C45: Memorandum: of which:- | F45: =F46+F47+F48+F49 -> 0 | G45: =G46+G47+G48+G49 -> 0 | H45: =H46+H47+H48+H49 -> 0 | I45: =F45+G45+H45 -> 0
D46: (i) | E46: Central Govt. - Consolidated Fund Accounts | I46: =F46+G46+H46 -> 0
D47: (ii) | E47: Commissioners' Accounts | I47: =F47+G47+H47 -> 0
...

Sheet F3C
C2: Analysis of F/C Deposits of Residents
F4: ($000s)
D5: US$ | E5: OTHER | F5: TOTAL
B7: 1. | C7: Resident Demand Deposits | D7: =SUM(D8+D109+D210+D311+D412+D513+D614) -> 0 | E7: =SUM(E8+E109+E210+E311+E412+E513+E614) -> 0 | F7: =D7+E7 -> 0 | H7: Should Equal | I7: =Form3!G12+Form3!H12 -> 0
C8: (i) Government | D8: =SUM(D9:D108) -> 0 | E8: =SUM(E9:E108) -> 0 | F8: =SUM(F9:F108) -> 0 | H8: Should Equal | I8: =Form3!G13+Form3!H13 -> 0
F9: =D9+E9 -> 0
F10: =D10+E10 -> 0
F11: =D11+E11 -> 0
F12: =D12+E12 -> 0
F13: =D13+E13 -> 0
F14: =D14+E14 -> 0
F15: =D15+E15 -> 0
F16: =D16+E16 -> 0
F17: =D17+E17 -> 0
F18: =D18+E18 -> 0
F19: =D19+E19 -> 0
F20: =D20+E20 -> 0
... F108: =D108+E108 -> 0
C109: (ii) Public Corporations | D109: =SUM(D110:D209) -> 0 | E109: =SUM(E110:E209) -> 0 | F109: =SUM(F110:F209) -> 0 | H109: Should Equal | I109: =Form3!G14+Form3!H14 -> 0
F110: =D110+E110 -> 0
F111: =D111+E111 -> 0
F112: =D112+E112 -> 0
F113: =D113+E113 -> 0
F114: =D114+E114 -> 0
F115: =D115+E115 -> 0
F116: =D116+E116 -> 0
F117: =D117+E117 -> 0
F118: =D118+E118 -> 0
F119: =D119+E119 -> 0
F120: =D120+E120 -> 0
F121: =D121+E121 -> 0
... F209: =D209+E209 -> 0
C210: (iii) Public Financial Institutions | D210: =SUM(D211:D310) -> 0 | E210: =SUM(E211:E310) -> 0 | F210: =SUM(F211:F310) -> 0 | H210: Should Equal | I210: =Form3!G15+Form3!H15 -> 0
F211: =D211+E211 -> 0
F212: =D212+E212 -> 0
F213: =D213+E213 -> 0
F214: =D214+E214 -> 0
F215: =D215+E215 -> 0
F216: =D216+E216 -> 0
F217: =D217+E217 -> 0
...

Sheet AnalyLnsOvr
L19: Analysis of Loans & Overdrafts Classified by Sector, Currency & Maturity
L21: Number of Accounts and Amounts Outstanding
L22: (Value in $000s)
L24: L O A N S | AF24: Total On- and Off-Balance Sheet Loans
I26: OVERDRAFTS | L26: Up to 2 Years | O26: 3 to 5 Years | R26: 6 to 10 Years | U26: Over 10 Years | X26: Off Balance Sheet | Z26: TOTAL LOANS | AC26: GRAND TOTAL
F28: S E C T O R | I28: NO. | J28: B$ | K28: F/C | L28: NO. | M28: B$ | N28: F/C | O28: NO. | P28: B$ | Q28: F/C | R28: NO. | S28: B$ | T28: F/C | U28: NO. | V28: B$ | W28: F/C | X28: B$ | Y28: F/C | Z28: NO. | AA28: B$ | AB28: F/C | AC28: NO. | AD28: B$ | AE28: F/C | AF28: B$ | AG28: F/C
F30: 1. Agriculture | I30: =I31+I32+I33 -> 0 | J30: =J31+J32+J33 -> 0 | K30: =K31+K32+K33 -> 0 | L30: =L31+L32+L33 -> 0 | M30: =M31+M32+M33 -> 0 | N30: =N31+N32+N33 -> 0 | O30: =O31+O32+O33 -> 0 | P30: =P31+P32+P33 -> 0 | ... Y30: =Y31+Y32+Y33 -> 0 | Z30: =L30+O30+R30+U30 -> 0 | AA30: =M30+P30+S30+V30 -> 0 | AB30: =N30+Q30+T30+W30 -> 0 | AC30: =I30+L30+O30+R30+U30 -> 0 | AD30: =J30+M30+P30+S30+V30 -> 0 | AE30: =K30+N30+Q30+T30+W30 -> 0 | AF30: =AD30+X30 -> 0 | AG30: =AE30+Y30 -> 0
F31: a) Livestock & Dairying | Z31: =L31+O31+R31+U31 -> 0 | AA31: =M31+P31+S31+V31 -> 0 | AB31: =N31+Q31+T31+W31 -> 0 | AC31: =I31+L31+O31+R31+U31 -> 0 | AD31: =J31+M31+P31+S31+V31 -> 0 | AE31: =K31+N31+Q31+T31+W31 -> 0 | AF31: =AD31+X31 -> 0 | AG31: =AE31+Y31 -> 0
F32: b) Food Crops | Z32: =L32+O32+R32+U32 -> 0 | AA32: =M32+P32+S32+V32 -> 0 | AB32: =N32+Q32+T32+W32 -> 0 | AC32: =I32+L32+O32+R32+U32 -> 0 | AD32: =J32+M32+P32+S32+V32 -> 0 | AE32: =K32+N32+Q32+T32+W32 -> 0 | AF32: =AD32+X32 -> 0 | AG32: =AE32+Y32 -> 0
F33: c) Other | Z33: =L33+O33+R33+U33 -> 0 | AA33: =M33+P33+S33+V33 -> 0 | AB33: =N33+Q33+T33+W33 -> 0 | AC33: =I33+L33+O33+R33+U33 -> 0 | AD33: =J33+M33+P33+S33+V33 -> 0 | AE33: =K33+N33+Q33+T33+W33 -> 0 | AF33: =AD33+X33 -> 0 | AG33: =AE33+Y33 -> 0
F34: 2. Fisheries | Z34: =L34+O34+R34+U34 -> 0 | AA34: =M34+P34+S34+V34 -> 0 | AB34: =N34+Q34+T34+W34 -> 0 | AC34: =I34+L34+O34+R34+U34 -> 0 | AD34: =J34+M34+P34+S34+V34 -> 0 | AE34: =K34+N34+Q34+T34+W34 -> 0 | AF34: =AD34+X34 -> 0 | AG34: =AE34+Y34 -> 0
F35: 3. Mining & Quarrying | Z35: =L35+O35+R35+U35 -> 0 | AA35: =M35+P35+S35+V35 -> 0 | AB35: =N35+Q35+T35+W35 -> 0 | AC35: =I35+L35+O35+R35+U35 -> 0 | AD35: =J35+M35+P35+S35+V35 -> 0 | AE35: =K35+N35+Q35+T35+W35 -> 0 | AF35: =AD35+X35 -> 0 | AG35: =AE35+Y35 -> 0
F36: 4. Manufacturing | I36: =I37+I38+I39+I40+I41+I42+I43 -> 0 | J36: =J37+J38+J39+J40+J41+J42+J43 -> 0 | K36: =K37+K38+K39+K40+K41+K42+K43 -> 0 | L36: =L37+L38+L39+L40+L41+L42+L43 -> 0 | M36: =M37+M38+M39+M40+M41+M42+M43 -> 0 | N36: =N37+N38+N39+N40+N41+N42+N43 -> 0 | O36: =O37+O38+O39+O40+O41+O42+O43 -> 0 | P36: =P37+P38+P39+P40+P41+P42+P43 -> 0 | ... W36: =W37+W38+W39+W40+W41+W42+W43 -> 0 | X36: =SUM(X37:X43) -> 0 | Y36: =SUM(Y37:Y43) -> 0 | Z36: =L36+O36+R36+U36 -> 0 | AA36: =M36+P36+S36+V36 -> 0 | AB36: =N36+Q36+T36+W36 -> 0 | AC36: =I36+L36+O36+R36+U36 -> 0 | AD36: =J36+M36+P36+S36+V36 -> 0 | AE36: =K36+N36+Q36+T36+W36 -> 0 | AF36: =AD36+X36 -> 0 | AG36: =AE36+Y36 -> 0
F37: a) Food & Non-Alcoholic Beverages | Z37: =L37+O37+R37+U37 -> 0 | AA37: =M37+P37+S37+V37 -> 0 | AB37: =N37+Q37+T37+W37 -> 0 | AC37: =I37+L37+O37+R37+U37 -> 0 | AD37: =J37+M37+P37+S37+V37 -> 0 | AE37: =K37+N37+Q37+T37+W37 -> 0 | AF37: =AD37+X37 -> 0 | AG37: =AE37+Y37 -> 0
F38: b) Alcoholic Beverages & Tobacco | Z38: =L38+O38+R38+U38 -> 0 | AA38: =M38+P38+S38+V38 -> 0 | AB38: =N38+Q38+T38+W38 -> 0 | AC38: =I38+L38+O38+R38+U38 -> 0 | AD38: =J38+M38+P38+S38+V38 -> 0 | AE38: =K38+N38+Q38+T38+W38 -> 0 | AF38: =AD38+X38 -> 0 | AG38: =AE38+Y38 -> 0
F39: c) Building Material & Metal Products | Z39: =L39+O39+R39+U39 -> 0 | AA39: =M39+P39+S39+V39 -> 0 | AB39: =N39+Q39+T39+W39 -> 0 | AC39: =I39+L39+O39+R39+U39 -> 0 | AD39: =J39+M39+P39+S39+V39 -> 0 | AE39: =K39+N39+Q39+T39+W39 -> 0 | AF39: =AD39+X39 -> 0 | AG39: =AE39+Y39 -> 0
F40: d) Furniture & Wood Products | Z40: =L40+O40+R40+U40 -> 0 | AA40: =M40+P40+S40+V40 -> 0 | AB40: =N40+Q40+T40+W40 -> 0 | AC40: =I40+L40+O40+R40+U40 -> 0 | AD40: =J40+M40+P40+S40+V40 -> 0 | AE40: =K40+N40+Q40+T40+W40 -> 0 | AF40: =AD40+X40 -> 0 | AG40: =AE40+Y40 -> 0
F41: e) Textiles, Clothing, etc. | Z41: =L41+O41+R41+U41 -> 0 | AA41: =M41+P41+S41+V41 -> 0 | AB41: =N41+Q41+T41+W41 -> 0 | AC41: =I41+L41+O41+R41+U41 -> 0 | AD41: =J41+M41+P41+S41+V41 -> 0 | AE41: =K41+N41+Q41+T41+W41 -> 0 | AF41: =AD41+X41 -> 0 | AG41: =AE41+Y41 -> 0
F42: f) Petro-Chemicals, Chemical & Plastic Products | Z42: =L42+O42+R42+U42 -> 0 | AA42: =M42+P42+S42+V42 -> 0 | AB42: =N42+Q42+T42+W42 -> 0 | AC42: =I42+L42+O42+R42+U42 -> 0 | AD42: =J42+M42+P42+S42+V42 -> 0 | AE42: =K42+N42+Q42+T42+W42 -> 0 | AF42: =AD42+X42 -> 0 | AG42: =AE42+Y42 -> 0
F43: g) Other Manufacturing | Z43: =L43+O43+R43+U43 -> 0 | AA43: =M43+P43+S43+V43 -> 0 | AB43: =N43+Q43+T43+W43 -> 0 | AC43: =I43+L43+O43+R43+U43 -> 0 | AD43: =J43+M43+P43+S43+V43 -> 0 | AE43: =K43+N43+Q43+T43+W43 -> 0 | AF43: =AD43+X43 -> 0 | AG43: =AE43+Y43 -> 0
F44: 5. Distribution | I44: =I45+I46+I47+I48 -> 0 | J44: =J45+J46+J47+J48 -> 0 | K44: =K45+K46+K47+K48 -> 0 | L44: =L45+L46+L47+L48 -> 0 | M44: =M45+M46+M47+M48 -> 0 | N44: =N45+N46+N47+N48 -> 0 | O44: =O45+O46+O47+O48 -> 0 | P44: =P45+P46+P47+P48 -> 0 | ... W44: =W45+W46+W47+W48 -> 0 | X44: =SUM(X45:X48) -> 0 | Y44: =SUM(Y45:Y48) -> 0 | Z44: =L44+O44+R44+U44 -> 0 | AA44: =M44+P44+S44+V44 -> 0 | AB44: =N44+Q44+T44+W44 -> 0 | AC44: =I44+L44+O44+R44+U44 -> 0 | AD44: =J44+M44+P44+S44+V44 -> 0 | AE44: =K44+N44+Q44+T44+W44 -> 0 | AF44: =AD44+X44 -> 0 | AG44: =AE44+Y44 -> 0
F45: a) Commission Agents | Z45: =L45+O45+R45+U45 -> 0 | AA45: =M45+P45+S45+V45 -> 0 | AB45: =N45+Q45+T45+W45 -> 0 | AC45: =I45+L45+O45+R45+U45 -> 0 | AD45: =J45+M45+P45+S45+V45 -> 0 | AE45: =K45+N45+Q45+T45+W45 -> 0 | AF45: =AD45+X45 -> 0 | AG45: =AE45+Y45 -> 0
F46: b) Wholesale | Z46: =L46+O46+R46+U46 -> 0 | AA46: =M46+P46+S46+V46 -> 0 | AB46: =N46+Q46+T46+W46 -> 0 | AC46: =I46+L46+O46+R46+U46 -> 0 | AD46: =J46+M46+P46+S46+V46 -> 0 | AE46: =K46+N46+Q46+T46+W46 -> 0 | AF46: =AD46+X46 -> 0 | AG46: =AE46+Y46 -> 0
F47: c) Retail | Z47: =L47+O47+R47+U47 -> 0 | AA47: =M47+P47+S47+V47 -> 0 | AB47: =N47+Q47+T47+W47 -> 0 | AC47: =I47+L47+O47+R47+U47 -> 0 | AD47: =J47+M47+P47+S47+V47 -> 0 | AE47: =K47+N47+Q47+T47+W47 -> 0 | AF47: =AD47+X47 -> 0 | AG47: =AE47+Y47 -> 0
F48: d) Other | Z48: =L48+O48+R48+U48 -> 0 | AA48: =M48+P48+S48+V48 -> 0 | AB48: =N48+Q48+T48+W48 -> 0 | AC48: =I48+L48+O48+R48+U48 -> 0 | AD48: =J48+M48+P48+S48+V48 -> 0 | AE48: =K48+N48+Q48+T48+W48 -> 0 | AF48: =AD48+X48 -> 0 | AG48: =AE48+Y48 -> 0
F49: 6. Tourism | I49: =I50+I51+I52 -> 0 | J49: =J50+J51+J52 -> 0 | K49: =K50+K51+K52 -> 0 | L49: =L50+L51+L52 -> 0 | M49: =M50+M51+M52 -> 0 | N49: =N50+N51+N52 -> 0 | O49: =O50+O51+O52 -> 0 | P49: =P50+P51+P52 -> 0 | ... Y49: =Y50+Y51+Y52 -> 0 | Z49: =L49+O49+R49+U49 -> 0 | AA49: =M49+P49+S49+V49 -> 0 | AB49: =N49+Q49+T49+W49 -> 0 | AC49: =I49+L49+O49+R49+U49 -> 0 | AD49: =J49+M49+P49+S49+V49 -> 0 | AE49: =K49+N49+Q49+T49+W49 -> 0 | AF49: =AD49+X49 -> 0 | AG49: =AE49+Y49 -> 0
F50: a) Hotels | Z50: =L50+O50+R50+U50 -> 0 | AA50: =M50+P50+S50+V50 -> 0 | AB50: =N50+Q50+T50+W50 -> 0 | AC50: =I50+L50+O50+R50+U50 -> 0 | AD50: =J50+M50+P50+S50+V50 -> 0 | AE50: =K50+N50+Q50+T50+W50 -> 0 | AF50: =AD50+X50 -> 0 | AG50: =AE50+Y50 -> 0
F51: b) Apartments | Z51: =L51+O51+R51+U51 -> 0 | AA51: =M51+P51+S51+V51 -> 0 | AB51: =N51+Q51+T51+W51 -> 0 | AC51: =I51+L51+O51+R51+U51 -> 0 | AD51: =J51+M51+P51+S51+V51 -> 0 | AE51: =K51+N51+Q51+T51+W51 -> 0 | AF51: =AD51+X51 -> 0 | AG51: =AE51+Y51 -> 0
F52: c) Other | Z52: =L52+O52+R52+U52 -> 0 | AA52: =M52+P52+S52+V52 -> 0 | AB52: =N52+Q52+T52+W52 -> 0 | AC52: =I52+L52+O52+R52+U52 -> 0 | AD52: =J52+M52+P52+S52+V52 -> 0 | AE52: =K52+N52+Q52+T52+W52 -> 0 | AF52: =AD52+X52 -> 0 | AG52: =AE52+Y52 -> 0
F53: 7. Entertainment & Catering | Z53: =L53+O53+R53+U53 -> 0 | AA53: =M53+P53+S53+V53 -> 0 | AB53: =N53+Q53+T53+W53 -> 0 | AC53: =I53+L53+O53+R53+U53 -> 0 | AD53: =J53+M53+P53+S53+V53 -> 0 | AE53: =K53+N53+Q53+T53+W53 -> 0 | AF53: =AD53+X53 -> 0 | AG53: =AE53+Y53 -> 0
F54: 8. Transport | Z54: =L54+O54+R54+U54 -> 0 | AA54: =M54+P54+S54+V54 -> 0 | AB54: =N54+Q54+T54+W54 -> 0 | AC54: =I54+L54+O54+R54+U54 -> 0 | AD54: =J54+M54+P54+S54+V54 -> 0 | AE54: =K54+N54+Q54+T54+W54 -> 0 | AF54: =AD54+X54 -> 0 | AG54: =AE54+Y54 -> 0
F55: 9. Public Corporations | Z55: =L55+O55+R55+U55 -> 0 | AA55: =M55+P55+S55+V55 -> 0 | AB55: =N55+Q55+T55+W55 -> 0 | AC55: =I55+L55+O55+R55+U55 -> 0 | AD55: =J55+M55+P55+S55+V55 -> 0 | AE55: =K55+N55+Q55+T55+W55 -> 0 | AF55: =AD55+X55 -> 0 | AG55: =AE55+Y55 -> 0
F56: 10. Construction | I56: =I57+I58 -> 0 | J56: =J57+J58 -> 0 | K56: =K57+K58 -> 0 | L56: =L57+L58 -> 0 | M56: =M57+M58 -> 0 | N56: =N57+N58 -> 0 | O56: =O57+O58 -> 0 | P56: =P57+P58 -> 0 | ... Y56: =Y57+Y58 -> 0 | Z56: =L56+O56+R56+U56 -> 0 | AA56: =M56+P56+S56+V56 -> 0 | AB56: =N56+Q56+T56+W56 -> 0 | AC56: =I56+L56+O56+R56+U56 -> 0 | AD56: =J56+M56+P56+S56+V56 -> 0 | AE56: =K56+N56+Q56+T56+W56 -> 0 | AF56: =AD56+X56 -> 0 | AG56: =AE56+Y56 -> 0
F57: a) Land Development | Z57: =L57+O57+R57+U57 -> 0 | AA57: =M57+P57+S57+V57 -> 0 | AB57: =N57+Q57+T57+W57 -> 0 | AC57: =I57+L57+O57+R57+U57 -> 0 | AD57: =J57+M57+P57+S57+V57 -> 0 | AE57: =K57+N57+Q57+T57+W57 -> 0 | AF57: =AD57+X57 -> 0 | AG57: =AE57+Y57 -> 0
F58: b) Other Construction | I58: =I59+I60 -> 0 | J58: =J59+J60 -> 0 | K58: =K59+K60 -> 0 | L58: =L59+L60 -> 0 | M58: =M59+M60 -> 0 | N58: =N59+N60 -> 0 | O58: =O59+O60 -> 0 | P58: =P59+P60 -> 0 | ... Y58: =Y59+Y60 -> 0 | Z58: =L58+O58+R58+U58 -> 0 | AA58: =M58+P58+S58+V58 -> 0 | AB58: =N58+Q58+T58+W58 -> 0 | AC58: =I58+L58+O58+R58+U58 -> 0 | AD58: =J58+M58+P58+S58+V58 -> 0 | AE58: =K58+N58+Q58+T58+W58 -> 0 | AF58: =AD58+X58 -> 0 | AG58: =AE58+Y58 -> 0
F59: (i) Private Residence | Z59: =L59+O59+R59+U59 -> 0 | AA59: =M59+P59+S59+V59 -> 0 | AB59: =N59+Q59+T59+W59 -> 0 | AC59: =I59+L59+O59+R59+U59 -> 0 | AD59: =J59+M59+P59+S59+V59 -> 0 | AE59: =K59+N59+Q59+T59+W59 -> 0 | AF59: =AD59+X59 -> 0 | AG59: =AE59+Y59 -> 0
F60: (ii) Commercial & Industrial | Z60: =L60+O60+R60+U60 -> 0 | AA60: =M60+P60+S60+V60 -> 0 | AB60: =N60+Q60+T60+W60 -> 0 | AC60: =I60+L60+O60+R60+U60 -> 0 | AD60: =J60+M60+P60+S60+V60 -> 0 | AE60: =K60+N60+Q60+T60+W60 -> 0 | AF60: =AD60+X60 -> 0 | AG60: =AE60+Y60 -> 0
F61: 11. Government | Z61: =L61+O61+R61+U61 -> 0 | AA61: =M61+P61+S61+V61 -> 0 | AB61: =N61+Q61+T61+W61 -> 0 | AC61: =I61+L61+O61+R61+U61 -> 0 | AD61: =J61+M61+P61+S61+V61 -> 0 | AE61: =K61+N61+Q61+T61+W61 -> 0 | AF61: =AD61+X61 -> 0 | AG61: =AE61+Y61 -> 0
F62: 12. Public Financial Institutions | Z62: =L62+O62+R62+U62 -> 0 | AA62: =M62+P62+S62+V62 -> 0 | AB62: =N62+Q62+T62+W62 -> 0 | AC62: =I62+L62+O62+R62+U62 -> 0 | AD62: =J62+M62+P62+S62+V62 -> 0 | AE62: =K62+N62+Q62+T62+W62 -> 0 | AF62: =AD62+X62 -> 0 | AG62: =AE62+Y62 -> 0
F63: 13. Private Financial Institutions | Z63: =L63+O63+R63+U63 -> 0 | AA63: =M63+P63+S63+V63 -> 0 | AB63: =N63+Q63+T63+W63 -> 0 | AC63: =I63+L63+O63+R63+U63 -> 0 | AD63: =J63+M63+P63+S63+V63 -> 0 | AE63: =K63+N63+Q63+T63+W63 -> 0 | AF63: =AD63+X63 -> 0 | AG63: =AE63+Y63 -> 0
...

Sheet Form5
C3: Analysis of Commodity Composition on Consumer Credit
H5: (Value in $000s)
H6: DEMAND - UP TO 7 YEARS
D8: Type of Commodity | G8: Value of Debt Outstanding | H8: Value of Repayments | I8: Value of New Credit Extended | J8: Number of Agreements | K8: Value of Non-Performing Accounts | L8: Number of Non-Performing Accounts
C10: 1. | D10: Private Cars
C11: 2. | D11: Taxis or Rented Cars
C12: 3. | D12: Commercial Vehicles
C13: 4. | D13: Furnishings and Domestic Appliances
C14: 5. | D14: Travel
C15: 6. | D15: Education
C16: 7. | D16: Medical
C17: 8. | D17: Home Improvement
C18: 9. | D18: Land Purchase (i.e. Lots)
C19: 10. | D19: Consolidation of Debts
C20: 11. | D20: Credit Cards
C21: 12. | D21: Miscellaneous
D22: TOTAL | G22: =SUM(G10:G21) -> 0 | H22: =SUM(H10:H21) -> 0 | I22: =SUM(I10:I21) -> 0 | J22: =SUM(J10:J21) -> 0 | K22: =SUM(K10:K21) -> 0 | L22: =SUM(L10:L21) -> 0
H25: DEMAND - OVER 7 YEARS
D27: Type of Commodity | G27: Value of Debt Outstanding | H27: Value of Repayments | I27: Value of New Credit Extended | J27: Number of Agreements | K27: Value of Non-Performing Accounts | L27: Number of Non-Performing Accounts
C29: 1. | D29: Private Cars
C30: 2. | D30: Taxis or Rented Cars
C31: 3. | D31: Commercial Vehicles
C32: 4. | D32: Furnishings and Domestic Appliances
C33: 5. | D33: Travel
C34: 6. | D34: Education
C35: 7. | D35: Medical
C36: 8. | D36: Home Improvement
C37: 9. | D37: Land Purchase (i.e. Lots)
C38: 10. | D38: Consolidation of Debts
C39: 11. | D39: Credit Cards
C40: 12. | D40: Miscellaneous
D41: TOTAL | G41: =SUM(G29:G40) -> 0 | H41: =SUM(H29:H40) -> 0 | I41: =SUM(I29:I40) -> 0 | J41: =SUM(J29:J40) -> 0 | K41: =SUM(K29:K40) -> 0 | L41: =SUM(L29:L40) -> 0

Sheet Form10
B2: Analysis of Inter-Financial Institutions' Transactions
K4: Commercial Banks
K5: BOB - Bank of The Bahamas Ltd.
B6: A: BAHAMIAN DOLLAR TRANSACTIONS | K6: BNS - Scotiabank (Bahamas) Ltd.
B7: COMMERCIAL BANKS (AUTHORIZED DEALERS) | K7: CIBC - CIBC Caribbean Bank (Bahamas) Ltd.
C8: DUE TO | F8: DUE FROM | K8: CIT - Citibank N.A.
B9: Institution | C9: Demand/Call | D9: Fixed | E9: Borrowings | F9: Demand/Call | G9: Fixed | H9: Loans | I9: Negotiable Paper | K9: CBL - Commonwealth Bank Ltd.
K10: EBT - Equity Bank & Trust Ltd.
K11: FBB - Fidelity Bank (Bahamas) Ltd.
K12: FIN - Finance Corporation of Bahamas Ltd.
K13: RBC - RBC Royal Bank (Bahamas) Ltd.
K14: RFMB - RF Bank & Trust (Bahamas) Limited
K16: OLFIs
K17: BNT - Bank of Nova Scotia Trus Co. (Bahamas) Ltd., The
K18: BBL - Butterfield Trust (Bahamas) Ltd.
K19: CBT - CIBC Caribbean Trust Co. (Bahamas) Ltd.
K20: COR - Corner Bank (Overseas) Ltd.
K21: CTCL - Caystone Trust Company Ltd.
B22: (B$000s) Total: | C22: =SUM(C11:C21) -> 0 | D22: =SUM(D11:D21) -> 0 | E22: =SUM(E11:E21) -> 0 | F22: =SUM(F11:F21) -> 0 | G22: =SUM(G11:G21) -> 0 | H22: =SUM(H11:H21) -> 0 | I22: =SUM(I11:I21) -> 0 | K22: CUB - Capital Union Bank Ltd.
B23: Should Equal: | C23: ='Form 1'!K25 -> 0 | D23: ='Form 1'!K26 -> 0 | E23: ='Form 1'!K27 -> 0 | F23: =Form2!K24 -> 0 | G23: =Form2!K25 -> 0 | H23: =Form2!K26 -> 0 | I23: =Form2!K27 -> 0 | K23: DBT - Deltec Bank & Trust Ltd.
K24: JTC - JTC Private Trust Co. (Bahamas) Ltd.
B25: OTHER LOCAL FINANCIAL INSTITUTIONS (AUTHORIZED AGENTS) | K25: MTC - J.P. Morgan Trust Co. (Bahamas) Ltd.
C26: DUE TO | F26: DUE FROM | K26: LTL - Leno Trust Ltd.
B27: Institution | C27: Demand/Call | D27: Fixed | E27: Borrowings | F27: Demand/Call | G27: Fixed | H27: Loans | I27: Negotiable Paper | K27: TTC - Trident Trust Co.(Bahamas) Ltd.
B39: (B$000s) Total: | C39: =SUM(C28:C38) -> 0 | D39: =SUM(D28:D38) -> 0 | E39: =SUM(E28:E38) -> 0 | F39: =SUM(F28:F38) -> 0 | G39: =SUM(G28:G38) -> 0 | H39: =SUM(H28:H38) -> 0 | I39: =SUM(I28:I38) -> 0
B40: Should Equal: | C40: ='Form 1'!K29 -> 0 | D40: ='Form 1'!K30 -> 0 | E40: ='Form 1'!K31 -> 0 | F40: =Form2!K29 -> 0 | G40: =Form2!K30 -> 0 | H40: =Form2!K31 -> 0 | I40: =Form2!K32 -> 0
B42: B: FOREIGN CURRENCY TRANSACTIONS
B43: COMMERCIAL BANKS (AUTHORIZED DEALERS)
C44: DUE TO | F44: DUE FROM
B45: Institution | C45: Demand/Call | D45: Fixed | E45: Borrowings | F45: Demand/Call | G45: Fixed | H45: Loans | I45: Negotiable Paper
B57: (B$000s) Total: | C57: =SUM(C46:C56) -> 0 | D57: =SUM(D46:D56) -> 0 | E57: =SUM(E46:E56) -> 0 | F57: =SUM(F46:F56) -> 0 | G57: =SUM(G46:G56) -> 0 | H57: =SUM(H46:H56) -> 0 | I57: =SUM(I46:I56) -> 0
B58: Should Equal: | C58: ='Form 1'!L25+'Form 1'!M25 -> 0 | D58: ='Form 1'!L26+'Form 1'!M26 -> 0 | E58: ='Form 1'!L27+'Form 1'!M27 -> 0 | F58: =Form2!L24+Form2!M24 -> 0 | G58: =Form2!L25+Form2!M25 -> 0 | H58: =Form2!L26+Form2!M26 -> 0 | I58: =Form2!L27+Form2!M27 -> 0
B60: OTHER LOCAL FINANCIAL INSTITUTIONS (AUTHORIZED AGENTS)
C61: DUE TO | F61: DUE FROM
B62: Institution | C62: Demand/Call | D62: Fixed | E62: Borrowings | F62: Demand/Call | G62: Fixed | H62: Loans | I62: Negotiable Paper
B74: (B$000s) Total: | C74: =SUM(C63:C73) -> 0 | D74: =SUM(D63:D73) -> 0 | E74: =SUM(E63:E73) -> 0 | F74: =SUM(F63:F73) -> 0 | G74: =SUM(G63:G73) -> 0 | H74: =SUM(H63:H73) -> 0 | I74: =SUM(I63:I73) -> 0
B75: Should Equal: | C75: ='Form 1'!L29+'Form 1'!M29 -> 0 | D75: ='Form 1'!L30+'Form 1'!M30 -> 0 | E75: ='Form 1'!L31+'Form 1'!M31 -> 0 | F75: =Form2!L29+Form2!M29 -> 0 | G75: =Form2!L30+Form2!M30 -> 0 | H75: =Form2!L31+Form2!M31 -> 0 | I75: =Form2!L32+Form2!M32 -> 0

Sheet Sheet1
A1: Commercial Banks | B1: OLFIs
A2: BOB | B2: BNT
A3: BNS | B3: BBL
A4: CIBC | B4: CBT
A5: CIT | B5: COR
A6: CBL | B6: CTCL
A7: EBT | B7: CUB
A8: FBB | B8: DBT
A9: FIN | B9: JTC
A10: RBC | B10: MTC
A11: RFMB | B11: LTL
B12: TTC

Sheet Capital Composition
D6: Breakdown Of Capital Base
F8: ($000s)
E9: Section I: Common Equity Tier 1 (CET1) Capital: Instruments and Reserves
D10: 1 | E10: Ordinary Shares/common stock (issued and paid up that relate to directly issued qualifying CET1 capital instruments) | F10: 4379
D11: 2 | E11: Stock Surplus (Share Premiums arising from Item (1) above) | F11: 5474
D12: 3 | E12: Disclosed Reserves & Accumulated Other Comprehensive Income (inclusive of interim other comprehensive income)
D13: 4a. | E13: Beginning Retained Earnings | F13: ='Form 1'!N70 -> 0
D14: 4b. | E14: Current Year Net Profit (Loss) | F14: 2356
D15: 5 | E15: Ending Retained Earnings | F15: =SUM(F13:F14) -> 2356
D16: 6 | E16: Minority Interest (arising from CET1 capital instruments issued by the consolidated bank subsidiaries and held by third parties)
D18: 7 | E18: CET1 Capital Before Deductions ( A ) | F18: =SUM(F10:F12,F15:F16) -> 12209
D20: 8 | E20: Deductions (Regulatory Adjustments):
D21: 9 | E21: Valuation Adjustments
D22: 10 | E22: Goodwill
D23: 11 | E23: Other intangible assets
D24: 12 | E24: Cumulative cash flow hedge reserve (that relates to the hedging of financial instruments that are not fair valued on the balance sheet)
D25: 13 | E25: Gains and losses due to changes in own credit risk on fair valued liabilities
D26: 14 | E26: Defined benefit pension fund assets (and liabilities)
D27: 15 | E27: Deferred tax assets
D28: 16 | E28: Investments in own shares (Treasury stock CET1 capital instruments)
D29: 17 | E29: Reciprocal cross holdings in CET1 capital instruments issued by any financial sector entities
D30: 18 | E30: Gains on sale related to securitization transactions
D31: 19 | E31: Non-significant investments in the capital of banking, financial and insurance entities (outside the scope of regulatory consolidation and the bank does not own more than 10% of the issued common share capital of the entity)
... D34: 22 | E34: Regulatory adjustments applied to CET1 due to insufficient Additional Tier 1 and Tier 2 to cover deductions
D35: 23
D36: 24 | E36: CET1 Capital After Deductions ( B ) | H36: =F18-SUM(G21:G34) -> 12209
E38: Section II: Additional Tier 1 Capital: Instruments
D39: 24 | E39: Perpetual non-cumulative preferred share/stock (issued and paid up)
D40: 25 | E40: Additional Tier 1 capital instruments issued (meeting criteria for AT1 and are not included in CET1)
D41: 26 | E41: of which: amount that is subject to phase out
D42: 27 | E42: Stock surplus (i.e. share premium, if any, meeting the criteria for AT1)
D43: 28 | E43: Minority Interest, i.e. Additional Tier 1 capital instruments issued by consolidated bank subsidiaries and held by third parties and are not included in CET1
D44: 29 | E44: of which: amount that is subject to phase out
D46: 30 | E46: Additional Tier 1 Before Deductions ( C ) | F46: =SUM(F39,F40,F42,F43) -> 0
D48: 31 | E48: Deductions (Regulatory Adjustments):
D49: 32 | E49: Investment in own Additional Tier 1 instruments
D50: 33 | E50: Reciprocal cross holdings in Additional Tier 1 instruments
D51: 34 | E51: Non-significant capital investments in Additional Tier 1 of banking, financial and insurance entities (outside the scope of regulatory consolidation and the bank does not own more than 10% of the issued common share capital of the entity)
D52: 35 | E52: Significant capital investments in Additional Tier 1 of banking, financial and insurance entities (outside the scope of regulatory consolidation and the bank owns more than 10% of the issued common share capital of the enitity or where the entity is an affiliate of the bank)
D53: 36 | E53: Other deductions from Tier 1 capital as determined by the CBoB
...

Sheet New Capital Composition
D6: Breakdown of Capital Base
F8: ($000s)
E9: Common Equity Tier 1 (CET1) Capital: Instruments and Reserves
D10: 1.1 | E10: Ordinary Shares/common stock (issued and paid up that relate to directly issued qualifying CET1 capital instruments)
D11: 1.2 | E11: Stock Surplus (Share Premiums or additional paid-in capital arising from Item (1.1) above)
D12: 1.3 | E12: Accumulated Other Comprehensive Income (inclusive of interim other comprehensive income)
D13: 1.4 | E13: General or Statutory Reserves (as disclosed on the balance sheet)
D14: 1.5a | E14: Beginning Retained Earnings | F14: ='Form 1'!N70 -> 0
D15: 1.5b | E15: Current Year Net Profit (Loss) net of expected dividends
D16: 1.6 | E16: Ending Retained Earnings | F16: =SUM(F14:F15) -> 0
D18: 1.7 | E18: CET1 Capital Before Deductions | F18: =SUM(F10:F13,F16) -> 0
E20: Deductions (Regulatory Adjustments):
D21: 1.8 | E21: Valuation Adjustments
D22: 1.9 | E22: Goodwill
D23: 1.1 | E23: Other intangible assets
D24: 1.11 | E24: Cumulative cash flow hedge reserve (that relates to the hedging of financial instruments that are not fair valued on the balance sheet)
D25: 1.12 | E25: Gains and losses due to changes in own credit risk on fair valued liabilities
D26: 1.13 | E26: Negative amounts resulting from the calculation of expected losses
D27: 1.14 | E27: Defined benefit pension fund assets (and liabilities)
D28: 1.15 | E28: Investments in own shares (Treasury stock CET1 capital instruments)
D29: 1.16 | E29: Reciprocal cross holdings in CET1 capital instruments issued by any financial sector entities
D30: 1.17 | E30: Non-significant investments in the equity (CET1 instruments) of banking, financial and insurance entities (outside the scope of regulatory consolidation and the bank does not own more than 10% of the issued common share capital of the entity)
D31: 1.18 | E31: Significant investments in the equity (CET1 instruments) of banking, financial and insurance entities (outside the scope of regulatory consolidation and the bank owns more than 10% of the issued common share capital of the enitity or where the entity is an affiliate of the bank)
D32: 1.19 | E32: Any increase in equity that results from securitised assets
D33: 1.2 | E33: Other deduction or regulatory adjustments to CET1 as determined by the CBOB
D34: 1.21 | E34: Total Deduction from CET1 Capital | G34: =SUM(G21:G33) -> 0
D36: 1.22 | E36: Total Eligible Capital Base: CET1 Capital After Deductions | H36: =F18-G34 -> 0

Sheet CapSum
D6: Summary Schedule Of Total Eligible Capital
H8: ($000s)
D10: Capital Base
D12: Common Equity Tier 1 Capital | H12: ='Capital Composition'!H36 -> 12209
D13: Additional Tier 1 Capital | H13: ='Capital Composition'!H56 -> 0
D14: Total Tier 1 Capital | H14: =SUM(H12:H13) -> 12209
D16: Total Tier 2 Capital | H16: ='Capital Composition'!H79 -> 0
D18: Total Eligible Capital | H18: =SUM(H14+H16) -> 12209
D20: Credit Risk
D22: Using standardized approach
D23: Total Capital Required for Credit Risk | F23: 0.12 | G23: =H24*F23 -> 12184.468
D24: Total Credit Risk adjusted risk-weighted assets | H24: ='OFF Balance Sheet (Non-Deriv)'!K114+'OFF Balance Sheet (Deriv)'!P91+'CR - ON Balance Sheet'!K272-H50 -> 101537.23
D26: Operational Risk
D28: Using basic indicator approach | G28: =OpRisk!F15 -> 3564
D29: Using standardized approach | G29: =OpRisk!F47 -> 0
D30: Total Capital Required For Operational Risk | G30: =SUM(G28:G29) -> 3564
D32: Multiplier | G32: 12.5
D33: Total Operational Risk Adjusted Risk-Weighted Assets | H33: =G30*G32 -> 44550
D35: Market Risk
D37: Using standardized approach
D38: 1. Interest Rate Risk | G38: =G39+G40+G41 -> 0
D39: a. Specific Risk | G39: ='IRR-Specific'!K18 -> 0
D40: b. General Market Risk | G40: ='IRR-Specific'!K19 -> 0
D41: c. Interest Rate Options | G41: ='IRR-Specific'!K20 -> 0
D42: 2. Equity Position Risk | G42: =G43+G44 -> 0
D43: a. Specific Risk | G43: =Equity!H28 -> 0
D44: b. General Market Risk | G44: =Equity!H29 -> 0
D45: 3. Foreign Exchange Risks | G45: =FX!E28 -> 0
D46: 4. Commodities Risks | G46: =Commodities!H31 -> 0
D47: Total Capital Required For Market Risk | G47: =SUM(G38+G42+G45+G46) -> 0
D49: Multiplier | G49: 12.5
D50: Total Market Risk Adjusted Risk-Weighted Assets | H50: =G47*G49 -> 0
D52: Total Risk-Weighted Assets | H52: =H24+H33+H50 -> 146087.23
D54: Capital Adequacy Ratio | H54: =H18/H52 -> 0.083573354
D56: Common Equity Tier 1 To Risk-Weighted Assets | H56: =H12/H52 -> 0.083573354
D58: Tier 1 Capital To Risk-Weighted Assets | H58: =H14/H52 -> 0.083573354
D60: Gearing Ratio (Total Eligible Capital/Total Assets) | H60: =H18/Form2!N92 -> #DIV/0!

Sheet New CapSum
D6: Summary Schedule of Total Eligible Capital
H8: ($000s)
D10: Capital Base
D11: Common Equity Tier 1 Capital | H11: ='New Capital Composition'!F18 -> 0
D12: Less: Regulatory Adjustments | H12: ='New Capital Composition'!G34 -> 0
D14: Total Eligible Capital | H14: =SUM(H11-H12) -> 0
D16: Credit Risk
D17: Using standardised approach
D18: Total Capital Required for Credit Risk | F18: 0.12 | G18: =H20*F18 -> 0
D20: Total Credit Risk Adjusted Risk-Weighted Assets | H20: ='New OFF Balance Sheet (Non-Der)'!K148+'New OFF Balance Sheet (Deriv)'!P91+'New CR - ON Balance Sheet'!K338-H44 -> 0
D22: Operational Risk
D23: Using standardised approach | G23: =SUM('New OpRisk'!I101:I101) -> 0
D25: Total Capital Required For Operational Risk | H25: =G23 -> 0
D27: Multiplier | G27: 12.5
D28: Total Operational Risk Adjusted Risk-Weighted Assets | H28: =H25*G27 -> 0
D30: Market Risk
D31: Using simple standardized approach
D32: 1. Interest Rate Risk | E32: 1.3 | F32: =F33+F34+F35 -> 0 | G32: =E32*F32 -> 0
D33: a. Specific Risk | F33: ='IRR-Specific'!K18 -> 0
D34: b. General Market Risk | F34: ='IRR-Specific'!K19 -> 0
D35: c. Interest Rate Options | F35: ='IRR-Specific'!K20 -> 0
D36: 2. Equity Position Risk | E36: 3.5 | F36: =F37+F38 -> 0 | G36: =E36*F36 -> 0
D37: a. Specific Risk | F37: =Equity!H28 -> 0
D38: b. General Market Risk | F38: =Equity!H29 -> 0
D39: 3. Foreign Exchange Risks | E39: 1.2 | F39: =FX!E28 -> 0 | G39: =E39*F39 -> 0
D40: 4. Commodities Risks | E40: 1.9 | F40: =Commodities!H31 -> 0 | G40: =E40*F40 -> 0
D41: Total Capital Required For Market Risk | F41: =SUM(F32+F36+F39+F40) -> 0 | G41: =SUM(G32+G36+G39+G40) -> 0
D43: Multiplier | G43: 12.5
D44: Total Market Risk Adjusted Risk-Weighted Assets | H44: =G41*G43 -> 0
D46: Total Risk-Weighted Assets | H46: =SUM(H20+H28+H44) -> 0
D48: Capital Adequacy Ratio | H48: =H14/H46 -> #DIV/0!
D50: Leverage Ratio | H50: =SUM('New Leverage Ratio'!F37:G37) -> #DIV/0!

Sheet CR - ON Balance Sheet
D123: Credit Risk - Standardised Approach
D124: Item No. | E124: On Balance Sheet Items | G124: ($000s) | H124: CRM | I124: TOTAL (after CRM) | J124: Risk Weight (%) | K124: RWA
D127: 1 | E127: Cash Items | G127: =SUM(G129:G134) -> 3653 | H127: =SUM(H129:H134) -> 3653 | I127: =SUM(I129:I134) -> 0 | K127: =SUM(K129:K134) -> 0
D129: 1.1 | E129: Notes & Coins | G129: =Form2!N9 -> 0 | I129: =G129-H129 -> 0 | J129: 0 | K129: =I129*(J129/100) -> 0
D130: 1.2 | E130: Gold Bullion - In Vault | I130: =G130-H130 -> 0 | J130: 0 | K130: =I130*(J130/100) -> 0
D131: 1.3 | E131: Gold Bullion - Other | I131: =G131-H131 -> 0 | J131: 100 | K131: =I131*(J131/100) -> 0
D132: 1.4 | E132: Silver Bullion, Precious Metals & Other Gemstones | I132: =G132-H132 -> 0 | J132: 100 | K132: =I132*(J132/100) -> 0
D133: 1.5 | E133: Cash Items in the Course of Collection | G133: =Form2!N81 -> 0 | I133: =G133-H133 -> 0 | J133: 20 | K133: =I133*(J133/100) -> 0
D134: 1.6 | E134: Exposures Collateralized by Cash Deposits | G134: 3653 | H134: 3653 | I134: =G134-H134 -> 0 | J134: 0 | K134: =I134*(J134/100) -> 0
D136: 2 | E136: Sovereign Securities | G136: =SUM(G138:G139) -> 155675 | H136: =SUM(H138:H139) -> 0 | I136: =SUM(I138:I139) -> 155675 | K136: =ROUND(SUM(K138:K145),0) -> 0
D138: 2.1 | E138: Bahamas Government | G138: =Form2!N12 -> 0 | I138: =G138-H138 -> 0 | J138: 0 | K138: =I138*(J138/100) -> 0
D139: 2.2 | E139: Other Governments | G139: =SUM(G140:G145) -> 155675 | H139: =SUM(H140:H145) -> 0 | I139: =G139-H139 -> 155675
D140: 2.2.1 | E140: Credit Assessment of Sovereign Claims | F140: AAA to AA- | G140: 155675 | I140: =G140-H140 -> 155675 | J140: 0 | K140: =I140*(J140/100) -> 0
D141: 2.2.2 | F141: A+ to A- | I141: =G141-H141 -> 0 | J141: 20 | K141: =I141*(J141/100) -> 0
D142: 2.2.3 | F142: BBB+ to BBB- | I142: =G142-H142 -> 0 | J142: 50 | K142: =I142*(J142/100) -> 0
D143: 2.2.4 | F143: BB+ to B- | I143: =G143-H143 -> 0 | J143: 100 | K143: =I143*(J143/100) -> 0
D144: 2.2.5 | F144: Below B- | I144: =G144-H144 -> 0 | J144: 150 | K144: =I144*(J144/100) -> 0
D145: 2.2.6 | F145: Unrated | I145: =G145-H145 -> 0 | J145: 100 | K145: =I145*(J145/100) -> 0
D147: 3 | E147: Claims on Sovereigns and the Central Bank | G147: =SUM(G149:G151) -> 0 | H147: =SUM(H149:H151) -> 0 | I147: =G147-H147 -> 0 | K147: =SUM(K149:K151) -> 0
D149: 3.1 | E149: National Treatment - The Bahamas only | I149: =G149-H149 -> 0 | J149: 0 | K149: =I149*(J149/100) -> 0
D150: 3.2 | E150: Special Organizations | I150: =G150-H150 -> 0 | J150: 0 | K150: =I151*(J150/100) -> 0
D151: 3.3 | E151: Other Governments and Central Banks | G151: =SUM(G152:G157) -> 0 | H151: =SUM(H152:H157) -> 0 | I151: =G151-H151 -> 0 | K151: =SUM(K152:K157) -> 0
D152: 3.3.1 | E152: Credit Assessment of Sovereign Claims | F152: AAA to AA- | I152: =G152-H152 -> 0 | J152: 0 | K152: =I152*(J152/100) -> 0
D153: 3.3.2 | F153: A+ to A- | I153: =G153-H153 -> 0 | J153: 20 | K153: =I153*(J153/100) -> 0
D154: 3.3.3 | F154: BBB+ to BBB- | I154: =G154-H154 -> 0 | J154: 50 | K154: =I154*(J154/100) -> 0
D155: 3.3.4 | F155: BB+ to B- | I155: =G155-H155 -> 0 | J155: 100 | K155: =I155*(J155/100) -> 0
D156: 3.3.5 | F156: Below B- | I156: =G156-H156 -> 0 | J156: 150 | K156: =I156*(J156/100) -> 0
D157: 3.3.6 | F157: Unrated | I157: =G157-H157 -> 0 | J157: 100 | K157: =I157*(J157/100) -> 0
D159: 4 | E159: Claims on Public Sector Entities (PSEs) | G159: =SUM(G161,G162,G169) -> 0 | H159: =SUM(H161,H162,H169) -> 0 | I159: =SUM(I161,I162,I169) -> 0 | K159: =SUM(K161,K163:K168,K169) -> 0
D161: 4.1 | E161: Treatment as Sovereign | I161: =G161-H161 -> 0 | J161: 0 | K161: =I161*J161 -> 0
D162: 4.2 | E162: Treatment as Bank (Option 1) | G162: =SUM(G163:G168) -> 0 | H162: =SUM(H163:H168) -> 0 | I162: =G162-H162 -> 0
D163: 4.2.1 | E163: Credit Assessment of PSEs | F163: AAA to AA- | I163: =G163-H163 -> 0 | J163: 20 | K163: =I163*(J163/100) -> 0
D164: 4.2.2 | F164: A+ to A- | I164: =G164-H164 -> 0 | J164: 50 | K164: =I164*(J164/100) -> 0
D165: 4.2.3 | F165: BBB+ to BBB- | I165: =G165-H165 -> 0 | J165: 100 | K165: =I165*(J165/100) -> 0
D166: 4.2.4 | F166: BB+ to B- | I166: =G166-H166 -> 0 | J166: 100 | K166: =I166*(J166/100) -> 0
D167: 4.2.5 | F167: Below B- | I167: =G167-H167 -> 0 | J167: 150 | K167: =I167*(J167/100) -> 0
D168: 4.2.6 | F168: Unrated | I168: =G168-H168 -> 0 | J168: 100 | K168: =I168*(J168/100) -> 0
D169: 4.3 | E169: Treatment as Corporate | I169: =G169-H169 -> 0 | J169: 100 | K169: =I169*(J169/100) -> 0
D171: 5 | E171: Claims on Multi-Lateral Development Banks (MDBs) | G171: =Form2!N49 -> 0 | H171: =SUM(H173,H175:H180) -> 0 | I171: =SUM(I173,I175:I180) -> 0 | K171: =SUM(K173,K175:K180) -> 0
D173: 5.1 | E173: Special MDBs | I173: =G173-H173 -> 0 | J173: 0 | K173: =I173*J173 -> 0
...

Sheet Capital Adequacy
F2: Statement of Capital Adequacy
B4: CAPITAL BREAKDOWN
B5: Item | C5: Core Capital - Tier 1 | H5: ($000s)
B6: 6.1 | C6: Ordinary Shares/Common Stock (Issued and Paid Up)
B7: 6.2 | C7: Perpetual Non-Cumulative Preferred Share/Stock (Issued and Paid Up)
B8: 6.3 | C8: Reserves | H8: =SUM(H9:H11) -> 0
C9: 6.3.1 Share Premium Account
C10: 6.3.2 Disclosed Prior Year's Reserves (excluding Item 6.9), etc.
C11: 6.3.3 Current Year’s Retained Profit
B12: 6.4 | C12: Current Year’s Losses
B13: 6.5 | C13: Minority Interests (in Tier 1 Capital)
B14: 6.6 | C14: Total of Items 6.1 to 6.5 | H14: =SUM(H6+H7+H8+H12+H13) -> 0
B15: 6.7 | C15: Goodwill and Other Intangible Assets
B16: 6.8 | C16: Total Tier 1 Capital (Item 6.6 less 6.7) | H16: =SUM(H14-H15) -> 0
C18: Supplementary Capital - Tier 2
B19: 6.9 | C19: Fixed Asset Revaluation Reserve
B20: 6.1 | C20: Other Assets Revaluation Reserves
B21: 6.11 | C21: General Provisions | H21: ='Form 1'!N68 -> 0
B22: 6.12 | C22: Hybrid (Debt/Equity) Instruments | H22: ='Form 1'!N59 -> 0
B23: 6.13 | C23: Subordinated Term Debt | H23: ='Form 1'!N60 -> 0
B24: 6.14 | C24: Minority Interests (in Tier 2 Capital)
C26: Less Adjustments To Capital
B27: 6.15 | C27: Excess General Provisions | H27: =IF((1.25%*G169)<H21, H21-( 1.25% *G169),0) -> 0
B28: 6.16 | C28: Excess Tier 2 Subordinated Debt | H28: =IF(H23> (0.5 * H16),H23-(0.5 * H16),0) -> 0
B29: 6.17 | C29: Amortization on Tier 2 Subordinated Debt
B30: 6.18 | C30: Total of (Items 6.9 to 6.14) Less Total of (Items 6.15 to 6.17) | H30: =SUM(H19:H24)-SUM(H27:H29) -> 0
B31: 6.19 | C31: Tier 2 Capital in Excess of the Overall Limit/Excess Tier 2 Capital | H31: =IF(H30>H16, ABS(H16 - H30), 0) -> 0
B32: 6.2 | C32: Total Eligible Tier 2 Capital (Items 6.18 less 6.19) | H32: =SUM(H30-H31) -> 0
B34: 6.21 | C34: Total Base Capital (Tier 1 + Tier 2) | H34: =H16 + H32 -> 0
C36: Less Adjustments To Base Capital
B37: 6.22 | C37: Equity and other capital requirements in subsidiary companies or associate
C38: (where subsidiary is not consolidated with the bank).
B40: 6.23 | C40: Equity and other capital requirements in non-operating bank or financial holding company
C41: (where financial institution is not consolidated with the bank or its subsidiary).
B43: 6.24 | C43: Equity and other capital requirements in financial institutions held by the bank or its subsidiary
C44: companies (where financial institution is not consolidated with the bank or its subsidiary).
B46: 6.25 | C46: Any undertakings by the bank to absorb designated first level of losses on claims supported
C47: by the bank.
B48: 6.26 | C48: Total Deduction To Base Capital | H48: =SUM(H37, H40,H43,H46) -> 0
B49: 6.27 | D49: Total Eligible Base Capital | H49: =SUM(H34-H48) -> 0
...

Sheet New CR - ON Balance Sheet
D123: Credit Risk - Standardised Approach
D124: Item No. | E124: On Balance Sheet Items | G124: ($000s) | H124: CRM | I124: TOTAL (after CRM) | J124: Risk Weight (%) | K124: RWA
D127: 1 | E127: Cash Items | G127: =SUM(G129:G134) -> 0 | H127: =SUM(H129:H134) -> 0 | I127: =SUM(I129:I134) -> 0 | K127: =SUM(K129:K134) -> 0
D129: 1.1 | E129: Notes & Coins | G129: =Form2!N9 -> 0 | I129: =G129-H129 -> 0 | J129: 0 | K129: =I129*(J129/100) -> 0
D130: 1.2 | E130: Gold Bullion - In Vault | I130: =G130-H130 -> 0 | J130: 0 | K130: =I130*(J130/100) -> 0
D131: 1.3 | E131: Gold Bullion - Other | I131: =G131-H131 -> 0 | J131: 100 | K131: =I131*(J131/100) -> 0
D132: 1.4 | E132: Silver Bullion, Precious Metals & Other Gemstones | I132: =G132-H132 -> 0 | J132: 100 | K132: =I132*(J132/100) -> 0
D133: 1.5 | E133: Cash Items in the Course of Collection | G133: =Form2!N81 -> 0 | I133: =G133-H133 -> 0 | J133: 20 | K133: =I133*(J133/100) -> 0
D134: 1.6 | E134: Exposures Collateralized by Cash Deposits | I134: =G134-H134 -> 0 | J134: 0 | K134: =I134*(J134/100) -> 0
D136: 2 | E136: Sovereign Securities | G136: =SUM(G138:G139) -> 0 | H136: =SUM(H138:H139) -> 0 | I136: =SUM(I138:I139) -> 0 | K136: =ROUND(SUM(K138:K145),0) -> 0
D138: 2.1 | E138: Bahamas Government | G138: =Form2!N12 -> 0 | I138: =G138-H138 -> 0 | J138: 0 | K138: =I138*(J138/100) -> 0
D139: 2.2 | E139: Other Governments | G139: =SUM(G140:G145) -> 0 | H139: =SUM(H140:H145) -> 0 | I139: =G139-H139 -> 0
D140: 2.2.1 | E140: Credit Assessment of Sovereign Claims | F140: AAA to AA- | I140: =G140-H140 -> 0 | J140: 0 | K140: =I140*(J140/100) -> 0
D141: 2.2.2 | F141: A+ to A- | I141: =G141-H141 -> 0 | J141: 20 | K141: =I141*(J141/100) -> 0
D142: 2.2.3 | F142: BBB+ to BBB- | I142: =G142-H142 -> 0 | J142: 50 | K142: =I142*(J142/100) -> 0
D143: 2.2.4 | F143: BB+ to B- | I143: =G143-H143 -> 0 | J143: 100 | K143: =I143*(J143/100) -> 0
D144: 2.2.5 | F144: Below B- | I144: =G144-H144 -> 0 | J144: 150 | K144: =I144*(J144/100) -> 0
D145: 2.2.6 | F145: Unrated | I145: =G145-H145 -> 0 | J145: 100 | K145: =I145*(J145/100) -> 0
D147: 3 | E147: Claims on Sovereigns and the Central Bank | G147: =SUM(G149:G151) -> 0 | H147: =SUM(H149:H151) -> 0 | I147: =G147-H147 -> 0 | K147: =ROUND(SUM(K149:K151),0) -> 0
D149: 3.1 | E149: National Treatment - The Bahamas only | I149: =G149-H149 -> 0 | J149: 0 | K149: =I149*(J149/100) -> 0
D150: 3.2 | E150: Special Organizations | I150: =G150-H150 -> 0 | J150: 0 | K150: =I151*(J150/100) -> 0
D151: 3.3 | E151: Other Governments and Central Banks | G151: =SUM(G152:G157) -> 0 | H151: =SUM(H152:H157) -> 0 | I151: =G151-H151 -> 0 | K151: =SUM(K152:K157) -> 0
D152: 3.3.1 | E152: Credit Assessment of Sovereign Claims | F152: AAA to AA- | I152: =G152-H152 -> 0 | J152: 0 | K152: =I152*(J152/100) -> 0
D153: 3.3.2 | F153: A+ to A- | I153: =G153-H153 -> 0 | J153: 20 | K153: =I153*(J153/100) -> 0
D154: 3.3.3 | F154: BBB+ to BBB- | I154: =G154-H154 -> 0 | J154: 50 | K154: =I154*(J154/100) -> 0
D155: 3.3.4 | F155: BB+ to B- | I155: =G155-H155 -> 0 | J155: 100 | K155: =I155*(J155/100) -> 0
D156: 3.3.5 | F156: Below B- | I156: =G156-H156 -> 0 | J156: 150 | K156: =I156*(J156/100) -> 0
D157: 3.3.6 | F157: Unrated | I157: =G157-H157 -> 0 | J157: 100 | K157: =I157*(J157/100) -> 0
D159: 4 | E159: Claims on Public Sector Entities (PSEs) | G159: =SUM(G161,G170,G181) -> 0 | H159: =SUM(H161,H170,H181) -> 0 | I159: =SUM(I161,I170,I181) -> 0 | K159: =SUM(K162:K168,K171:K176,K182:K186) -> 0
D161: 4.1 | E161: Treatment as Sovereign | G161: =SUM(G162:G168) -> 0 | H161: =SUM(H162:H168) -> 0 | I161: =G161-H161 -> 0
D162: 4.1.1 | E162: Treatment as Bahamas Sovereign | I162: =G162-H162 -> 0 | J162: 0 | K162: =I162*(J162/100) -> 0
D163: 4.1.2 | E163: Credit Assessment of PSEs | F163: AAA to AA- | I163: =G163-H163 -> 0 | J163: 0 | K163: =I163*(J163/100) -> 0
D164: 4.1.3 | F164: A+ to A- | I164: =G164-H164 -> 0 | J164: 20 | K164: =I164*(J164/100) -> 0
D165: 4.1.4 | F165: BBB+ to BBB- | I165: =G165-H165 -> 0 | J165: 50 | K165: =I165*(J165/100) -> 0
D166: 4.1.5 | F166: BB+ to B- | I166: =G166-H166 -> 0 | J166: 100 | K166: =I166*(J166/100) -> 0
D167: 4.1.6 | F167: Below B- | I167: =G167-H167 -> 0 | J167: 150 | K167: =I167*(J167/100) -> 0
D168: 4.1.7 | F168: Unrated | I168: =G168-H168 -> 0 | J168: 100 | K168: =I168*(J168/100) -> 0
D170: 4.2 | E170: Treatment as Bank | G170: =SUM(G171:G176) -> 0 | H170: =SUM(H171:H176) -> 0 | I170: =G170-H170 -> 0
D171: 4.2.1 | E171: Credit Assessment of PSEs | F171: AAA to AA- | I171: =G171-H171 -> 0 | J171: 20 | K171: =I171*(J171/100) -> 0
D172: 4.2.2 | F172: A+ to A- | I172: =G172-H172 -> 0 | J172: 30 | K172: =I172*(J172/100) -> 0
...

Sheet OFF Balance Sheet (Non-Deriv)
E50: Standardized Approach - Off-Balance Sheet Assets (Non-Derivatives)
B51: Off-Balance Sheet Items (Non-Derivative Instruments) Indirect Credit Instruments | E51: Risk Weight (%) | F51: Exposures Without CRM ($000s) | H51: Exposures With CRM ($000s) | K51: Risk Weighted Amount
F52: Notional Principal Amount Before CCF | G52: Credit Equivalent Exposure | H52: Notional Principal Amount Before CCF | I52: Credit Equivalent Exposure pre-CRM | J52: Credit Equivalent Exposure post-CRM
C53: CCF 0%
B54: 1. | C54: Commitments That Are Unconditionally Cancellable Without Prior Notice
E55: ALL | F55: 133374 | G55: =F55*0 -> 0 | I55: =H55*0 -> 0 | K55: =(G55+J55)*0 -> 0
C56: CCF 20%
B57: 2. | C57: Commitments With Original Maturity Of Less Than 1 Year
E58: 0 | G58: =F58*0.2 -> 0 | I58: =H58*0.2 -> 0 | K58: =(G58+J58)*(E58/100) -> 0
E59: 20 | G59: =F59*0.2 -> 0 | I59: =H59*0.2 -> 0 | K59: =(G59+J59)*(E59/100) -> 0
E60: 50 | G60: =F60*0.2 -> 0 | I60: =H60*0.2 -> 0 | K60: =(G60+J60)*(E60/100) -> 0
E61: 100 | G61: =F61*0.2 -> 0 | I61: =H61*0.2 -> 0 | K61: =(G61+J61)*(E61/100) -> 0
E62: 150 | G62: =F62*0.2 -> 0 | I62: =H62*0.2 -> 0 | K62: =(G62+J62)*(E62/100) -> 0
B63: 3. | C63: Short-Term, Self-Liquidating, Trade-Related Contingencies
E64: 0 | G64: =F64*0.2 -> 0 | I64: =H64*0.2 -> 0 | K64: =(G64+J64)*(E64/100) -> 0
E65: 20 | G65: =F65*0.2 -> 0 | I65: =H65*0.2 -> 0 | K65: =(G65+J65)*(E65/100) -> 0
E66: 50 | G66: =F66*0.2 -> 0 | I66: =H66*0.2 -> 0 | K66: =(G66+J66)*(E66/100) -> 0
E67: 100 | G67: =F67*0.2 -> 0 | I67: =H67*0.2 -> 0 | K67: =(G67+J67)*(E67/100) -> 0
E68: 150 | G68: =F68*0.2 -> 0 | I68: =H68*0.2 -> 0 | K68: =(G68+J68)*(E68/100) -> 0
C69: CCF 50%
B70: 4. | C70: Transaction-Related Contingencies
E71: 0 | G71: =F71*0.5 -> 0 | I71: =H71*0.5 -> 0 | K71: =(G71+J71)*(E71/100) -> 0
E72: 20 | F72: 192 | G72: =F72*0.5 -> 96 | I72: =H72*0.5 -> 0 | K72: =(G72+J72)*(E72/100) -> 19.2
E73: 50 | G73: =F73*0.5 -> 0 | I73: =H73*0.5 -> 0 | K73: =(G73+J73)*(E73/100) -> 0
E74: 100 | F74: 80 | G74: =F74*0.5 -> 40 | H74: 1896 | I74: =H74*0.5 -> 948 | J74: 425 | K74: =(G74+J74)*(E74/100) -> 465
E75: 150 | G75: =F75*0.5 -> 0 | I75: =H75*0.5 -> 0 | K75: =(G75+J75)*(E75/100) -> 0
B76: 5. | C76: Note Issuance And Revolving Underwriting Facilities
E77: 0 | G77: =F77*0.5 -> 0 | I77: =H77*0.5 -> 0 | K77: =(G77+J77)*(E77/100) -> 0
E78: 20 | G78: =F78*0.5 -> 0 | I78: =H78*0.5 -> 0 | K78: =(G78+J78)*(E78/100) -> 0
E79: 50 | G79: =F79*0.5 -> 0 | I79: =H79*0.5 -> 0 | K79: =(G79+J79)*(E79/100) -> 0
E80: 100 | G80: =F80*0.5 -> 0 | I80: =H80*0.5 -> 0 | K80: =(G80+J80)*(E80/100) -> 0
E81: 150 | G81: =F81*0.5 -> 0 | I81: =H81*0.5 -> 0 | K81: =(G81+J81)*(E81/100) -> 0
B82: 6. | C82: Commitments With Original Maturity Of 1 Year And Over
E83: 0 | G83: =F83*0.5 -> 0 | I83: =H83*0.5 -> 0 | K83: =(G83+J83)*(E83/100) -> 0
E84: 20 | G84: =F84*0.5 -> 0 | I84: =H84*0.5 -> 0 | K84: =(G84+J84)*(E84/100) -> 0
E85: 50 | G85: =F85*0.5 -> 0 | I85: =H85*0.5 -> 0 | K85: =(G85+J85)*(E85/100) -> 0
E86: 100 | G86: =F86*0.5 -> 0 | I86: =H86*0.5 -> 0 | K86: =(G86+J86)*(E86/100) -> 0
E87: 150 | G87: =F87*0.5 -> 0 | I87: =H87*0.5 -> 0 | K87: =(G87+J87)*(E87/100) -> 0
C88: CCF 100%
B89: 7. | C89: Direct Credit Substitutes
...

Sheet New OFF Balance Sheet (Non-Der)
E50: Standardized Approach - Off-Balance Sheet Assets (Non-Derivatives)
B51: Off-Balance Sheet Items (Non-Derivative Instruments) Indirect Credit Instruments | E51: Risk Weight (%) | F51: Exposures Without CRM ($000s) | H51: Exposures With CRM ($000s) | K51: Risk Weighted Amount
F52: Notional Principal Amount Before CCF | G52: Credit Equivalent Exposure | H52: Notional Principal Amount Before CCF | I52: Credit Equivalent Exposure pre-CRM | J52: Credit Equivalent Exposure post-CRM
C53: CCF 10%
B54: 1. | C54: Commitments That Are Unconditionally Cancellable Without Prior Notice
E55: 10 | G55: =F55*0.1 -> 0 | I55: =H55*0.1 -> 0 | K55: =(G55+J55)*(E55/100) -> 0
E56: 20 | G56: =F56*0.1 -> 0 | I56: =H56*0.1 -> 0 | K56: =(G56+J56)*(E56/100) -> 0
E57: 30 | G57: =F57*0.1 -> 0 | I57: =H57*0.1 -> 0 | K57: =(G57+J57)*(E57/100) -> 0
E58: 40 | G58: =F58*0.1 -> 0 | I58: =H58*0.1 -> 0 | K58: =(G58+J58)*(E58/100) -> 0
E59: 50 | G59: =F59*0.1 -> 0 | I59: =H59*0.1 -> 0 | K59: =(G59+J59)*(E59/100) -> 0
E60: 75 | G60: =F60*0.1 -> 0 | I60: =H60*0.1 -> 0 | K60: =(G60+J60)*(E60/100) -> 0
